{"text_format":"1","workbook":"xlsx","n_sheets":8,"sheets":["はじめに","読込","list","hol","record","record_org","cal","タイムカード"],"not_rendered":{"charts":0,"images":2,"macros":1,"external_links":0,"defined_names":2,"comments":0,"pivot_tables":0},"unopened":[],"bounds":{"document_bytes":16777216,"sheet_cells":100000,"rows_first":2000,"rows_last":500,"rows_between":2000,"halvings":0,"cell_chars":16384,"cell_head_chars":4096},"cells_cut":0,"cells_raw":0,"read":"whole","date_system":"1900"}

{"sheet":"はじめに","index":0,"n_rows":28,"n_cols":4,"rows_kept":28,"cut":false,"hidden":false,"merged":[]}
[]
[null,"はじめに（初期設定）"]
[null,null,null,"このファイルはマクロを使用しています"]
[null,null,null,"「セキュリティの警告」が表示されますので、「コンテンツの有効化」をクリックしてください"]
[]
[null,null,"'list'シート"]
[null,null,null,"従業員リストの入力"]
[null,null,null,"ThermoManagerAC（以下チェッカー）に登録した従業員の氏名を'list'シートに入力します"]
[null,null,null,"関数にて=（イコール）で照合していますので、チェッカーの登録名と全く同一にしてください"]
[null,null,null,"※スペース(半角・全角)有無等に注意"]
[]
[null,null,null,"テーブル('cal'シート)の最適化"]
[null,null,null,"入力した従業員の人数×25日分の計算用テーブルを作成します"]
[null,null,null,"全員の氏名を入力し終えたら、「従業員の数でテーブルを最適化」ボタンをクリックしてください"]
[null,null,null,"※月途中で従業員を追加・削除した際も最適化してください"]
[]
[null,null,"'hol'シート"]
[null,null,null,"所定休日の入力"]
[null,null,null,"'hol'シートに所定休日を入力すると、タイムカードで休日の行がライトグレーで表示されます"]
[]
[null,null,"その他"]
[null,null,null,"以下のシートは、編集不要です"]
[null,null,null,"record"]
[null,null,null,"record_org"]
[null,null,null,"cal"]
[]
[null,"あとは、チェッカーからダウンロードしたデータを、'読込'シートで読み込ませるだけです"]
[null,null,"ダウンロード方法など詳細は、'読込'シートを参照してください"]

{"sheet":"読込","index":1,"n_rows":3,"n_cols":2,"rows_kept":3,"cut":false,"hidden":false,"merged":[]}
[]
[null,"Thermo Maneger AC からダウンロードしたExcelファイルを読み込みます。"]
[null,"以下のボタンをクリックして下さい。"]

{"sheet":"list","index":2,"n_rows":5,"n_cols":1,"rows_kept":5,"cut":false,"hidden":false,"merged":[]}
["氏名"]
["富山　一郎"]
["富山　二郎"]
["富山　三郎"]
["富山　四郎"]

{"sheet":"hol","index":3,"n_rows":111,"n_cols":1,"rows_kept":111,"cut":false,"hidden":false,"merged":[]}
["所定休日"]
["2023-04-01"]
["2023-04-02"]
["2023-04-08"]
["2023-04-09"]
["2023-04-15"]
["2023-04-16"]
["2023-04-22"]
["2023-04-23"]
["2023-04-29"]
["2023-04-30"]
["2023-05-03"]
["2023-05-04"]
["2023-05-05"]
["2023-05-06"]
["2023-05-07"]
["2023-05-13"]
["2023-05-14"]
["2023-05-20"]
["2023-05-21"]
["2023-05-27"]
["2023-05-28"]
["2023-06-03"]
["2023-06-04"]
["2023-06-10"]
["2023-06-11"]
["2023-06-17"]
["2023-06-18"]
["2023-06-24"]
["2023-06-25"]
["2023-07-01"]
["2023-07-02"]
["2023-07-08"]
["2023-07-09"]
["2023-07-15"]
["2023-07-16"]
["2023-07-22"]
["2023-07-23"]
["2023-07-29"]
["2023-07-30"]
["2023-08-05"]
["2023-08-06"]
["2023-08-11"]
["2023-08-12"]
["2023-08-13"]
["2023-08-14"]
["2023-08-15"]
["2023-08-16"]
["2023-08-20"]
["2023-08-26"]
["2023-08-27"]
["2023-09-03"]
["2023-09-09"]
["2023-09-10"]
["2023-09-17"]
["2023-09-23"]
["2023-09-24"]
["2023-10-01"]
["2023-10-08"]
["2023-10-09"]
["2023-10-15"]
["2023-10-21"]
["2023-10-22"]
["2023-10-28"]
["2023-10-29"]
["2023-11-04"]
["2023-11-05"]
["2023-11-11"]
["2023-11-12"]
["2023-11-18"]
["2023-11-19"]
["2023-11-25"]
["2023-11-26"]
["2023-12-02"]
["2023-12-03"]
["2023-12-09"]
["2023-12-10"]
["2023-12-16"]
["2023-12-17"]
["2023-12-23"]
["2023-12-24"]
["2023-12-27"]
["2023-12-28"]
["2023-12-29"]
["2023-12-30"]
["2023-12-31"]
["2024-01-01"]
["2024-01-02"]
["2024-01-03"]
["2024-01-04"]
["2024-01-05"]
["2024-01-06"]
["2024-01-19"]
["2024-01-20"]
["2024-02-02"]
["2024-02-03"]
["2024-02-16"]
["2024-02-17"]
["2024-03-01"]
["2024-03-02"]
["2024-03-03"]
["2024-03-10"]
["2024-03-15"]
["2024-03-16"]
["2024-03-17"]
["2024-03-22"]
["2024-03-23"]
["2024-03-24"]
["2024-03-29"]
["2024-03-30"]
["2024-03-31"]

{"sheet":"record","index":4,"n_rows":1,"n_cols":8,"rows_kept":1,"cut":false,"hidden":false,"merged":[]}
["ID","日付時刻","名前","性別","電話番号","アルコール濃度","おんど","画像のパス"]

{"sheet":"record_org","index":5,"n_rows":1,"n_cols":8,"rows_kept":1,"cut":false,"hidden":false,"merged":[]}
["ID","日付時刻","名前","性別","電話番号","アルコール濃度","おんど","画像のパス"]

{"sheet":"cal","index":6,"n_rows":101,"n_cols":10,"rows_kept":101,"cut":false,"hidden":false,"merged":[]}
["Name","Year","Month","Hour","Minute","日マタギ","Day","Time","Temp","Alc"]
[{"$f":"record!C2","v":0},{"$f":"YEAR(record!B2)","v":1900},{"$f":"MONTH(record!B2)","v":1},{"$f":"HOUR(record!B2)","v":0},{"$f":"MINUTE(record!B2)","v":0},{"$f":"IF(D2+24>29,0,1)","v":1},{"$f":"DAY(record!B2)-F2","v":-1},{"$f":"TIME(D2,E2,)+F2","v":1},{"$f":"record!G2","v":0},{"$f":"record!F2","v":0}]
[{"$f":"record!C3","v":0},{"$f":"YEAR(record!B3)","v":1900},{"$f":"MONTH(record!B3)","v":1},{"$f":"HOUR(record!B3)","v":0},{"$f":"MINUTE(record!B3)","v":0},{"$f":"IF(D3+24>29,0,1)","v":1},{"$f":"DAY(record!B3)-F3","v":-1},{"$f":"TIME(D3,E3,)+F3","v":1},{"$f":"record!G3","v":0},{"$f":"record!F3","v":0}]
[{"$f":"record!C4","v":0},{"$f":"YEAR(record!B4)","v":1900},{"$f":"MONTH(record!B4)","v":1},{"$f":"HOUR(record!B4)","v":0},{"$f":"MINUTE(record!B4)","v":0},1,{"$f":"DAY(record!B4)-F4","v":-1},1,{"$f":"record!G4","v":0},{"$f":"record!F4","v":0}]
[{"$f":"record!C5","v":0},{"$f":"YEAR(record!B5)","v":1900},{"$f":"MONTH(record!B5)","v":1},{"$f":"HOUR(record!B5)","v":0},{"$f":"MINUTE(record!B5)","v":0},1,{"$f":"DAY(record!B5)-F5","v":-1},1,{"$f":"record!G5","v":0},{"$f":"record!F5","v":0}]
[{"$f":"record!C6","v":0},{"$f":"YEAR(record!B6)","v":1900},{"$f":"MONTH(record!B6)","v":1},{"$f":"HOUR(record!B6)","v":0},{"$f":"MINUTE(record!B6)","v":0},1,{"$f":"DAY(record!B6)-F6","v":-1},1,{"$f":"record!G6","v":0},{"$f":"record!F6","v":0}]
[{"$f":"record!C7","v":0},{"$f":"YEAR(record!B7)","v":1900},{"$f":"MONTH(record!B7)","v":1},{"$f":"HOUR(record!B7)","v":0},{"$f":"MINUTE(record!B7)","v":0},1,{"$f":"DAY(record!B7)-F7","v":-1},1,{"$f":"record!G7","v":0},{"$f":"record!F7","v":0}]
[{"$f":"record!C8","v":0},{"$f":"YEAR(record!B8)","v":1900},{"$f":"MONTH(record!B8)","v":1},{"$f":"HOUR(record!B8)","v":0},{"$f":"MINUTE(record!B8)","v":0},1,{"$f":"DAY(record!B8)-F8","v":-1},1,{"$f":"record!G8","v":0},{"$f":"record!F8","v":0}]
[{"$f":"record!C9","v":0},{"$f":"YEAR(record!B9)","v":1900},{"$f":"MONTH(record!B9)","v":1},{"$f":"HOUR(record!B9)","v":0},{"$f":"MINUTE(record!B9)","v":0},1,{"$f":"DAY(record!B9)-F9","v":-1},1,{"$f":"record!G9","v":0},{"$f":"record!F9","v":0}]
[{"$f":"record!C10","v":0},{"$f":"YEAR(record!B10)","v":1900},{"$f":"MONTH(record!B10)","v":1},{"$f":"HOUR(record!B10)","v":0},{"$f":"MINUTE(record!B10)","v":0},1,{"$f":"DAY(record!B10)-F10","v":-1},1,{"$f":"record!G10","v":0},{"$f":"record!F10","v":0}]
[{"$f":"record!C11","v":0},{"$f":"YEAR(record!B11)","v":1900},{"$f":"MONTH(record!B11)","v":1},{"$f":"HOUR(record!B11)","v":0},{"$f":"MINUTE(record!B11)","v":0},1,{"$f":"DAY(record!B11)-F11","v":-1},1,{"$f":"record!G11","v":0},{"$f":"record!F11","v":0}]
[{"$f":"record!C12","v":0},{"$f":"YEAR(record!B12)","v":1900},{"$f":"MONTH(record!B12)","v":1},{"$f":"HOUR(record!B12)","v":0},{"$f":"MINUTE(record!B12)","v":0},1,{"$f":"DAY(record!B12)-F12","v":-1},1,{"$f":"record!G12","v":0},{"$f":"record!F12","v":0}]
[{"$f":"record!C13","v":0},{"$f":"YEAR(record!B13)","v":1900},{"$f":"MONTH(record!B13)","v":1},{"$f":"HOUR(record!B13)","v":0},{"$f":"MINUTE(record!B13)","v":0},1,{"$f":"DAY(record!B13)-F13","v":-1},1,{"$f":"record!G13","v":0},{"$f":"record!F13","v":0}]
[{"$f":"record!C14","v":0},{"$f":"YEAR(record!B14)","v":1900},{"$f":"MONTH(record!B14)","v":1},{"$f":"HOUR(record!B14)","v":0},{"$f":"MINUTE(record!B14)","v":0},1,{"$f":"DAY(record!B14)-F14","v":-1},1,{"$f":"record!G14","v":0},{"$f":"record!F14","v":0}]
[{"$f":"record!C15","v":0},{"$f":"YEAR(record!B15)","v":1900},{"$f":"MONTH(record!B15)","v":1},{"$f":"HOUR(record!B15)","v":0},{"$f":"MINUTE(record!B15)","v":0},1,{"$f":"DAY(record!B15)-F15","v":-1},1,{"$f":"record!G15","v":0},{"$f":"record!F15","v":0}]
[{"$f":"record!C16","v":0},{"$f":"YEAR(record!B16)","v":1900},{"$f":"MONTH(record!B16)","v":1},{"$f":"HOUR(record!B16)","v":0},{"$f":"MINUTE(record!B16)","v":0},1,{"$f":"DAY(record!B16)-F16","v":-1},1,{"$f":"record!G16","v":0},{"$f":"record!F16","v":0}]
[{"$f":"record!C17","v":0},{"$f":"YEAR(record!B17)","v":1900},{"$f":"MONTH(record!B17)","v":1},{"$f":"HOUR(record!B17)","v":0},{"$f":"MINUTE(record!B17)","v":0},1,{"$f":"DAY(record!B17)-F17","v":-1},1,{"$f":"record!G17","v":0},{"$f":"record!F17","v":0}]
[{"$f":"record!C18","v":0},{"$f":"YEAR(record!B18)","v":1900},{"$f":"MONTH(record!B18)","v":1},{"$f":"HOUR(record!B18)","v":0},{"$f":"MINUTE(record!B18)","v":0},1,{"$f":"DAY(record!B18)-F18","v":-1},1,{"$f":"record!G18","v":0},{"$f":"record!F18","v":0}]
[{"$f":"record!C19","v":0},{"$f":"YEAR(record!B19)","v":1900},{"$f":"MONTH(record!B19)","v":1},{"$f":"HOUR(record!B19)","v":0},{"$f":"MINUTE(record!B19)","v":0},1,{"$f":"DAY(record!B19)-F19","v":-1},1,{"$f":"record!G19","v":0},{"$f":"record!F19","v":0}]
[{"$f":"record!C20","v":0},{"$f":"YEAR(record!B20)","v":1900},{"$f":"MONTH(record!B20)","v":1},{"$f":"HOUR(record!B20)","v":0},{"$f":"MINUTE(record!B20)","v":0},1,{"$f":"DAY(record!B20)-F20","v":-1},1,{"$f":"record!G20","v":0},{"$f":"record!F20","v":0}]
[{"$f":"record!C21","v":0},{"$f":"YEAR(record!B21)","v":1900},{"$f":"MONTH(record!B21)","v":1},{"$f":"HOUR(record!B21)","v":0},{"$f":"MINUTE(record!B21)","v":0},1,{"$f":"DAY(record!B21)-F21","v":-1},1,{"$f":"record!G21","v":0},{"$f":"record!F21","v":0}]
[{"$f":"record!C22","v":0},{"$f":"YEAR(record!B22)","v":1900},{"$f":"MONTH(record!B22)","v":1},{"$f":"HOUR(record!B22)","v":0},{"$f":"MINUTE(record!B22)","v":0},1,{"$f":"DAY(record!B22)-F22","v":-1},1,{"$f":"record!G22","v":0},{"$f":"record!F22","v":0}]
[{"$f":"record!C23","v":0},{"$f":"YEAR(record!B23)","v":1900},{"$f":"MONTH(record!B23)","v":1},{"$f":"HOUR(record!B23)","v":0},{"$f":"MINUTE(record!B23)","v":0},1,{"$f":"DAY(record!B23)-F23","v":-1},1,{"$f":"record!G23","v":0},{"$f":"record!F23","v":0}]
[{"$f":"record!C24","v":0},{"$f":"YEAR(record!B24)","v":1900},{"$f":"MONTH(record!B24)","v":1},{"$f":"HOUR(record!B24)","v":0},{"$f":"MINUTE(record!B24)","v":0},1,{"$f":"DAY(record!B24)-F24","v":-1},1,{"$f":"record!G24","v":0},{"$f":"record!F24","v":0}]
[{"$f":"record!C25","v":0},{"$f":"YEAR(record!B25)","v":1900},{"$f":"MONTH(record!B25)","v":1},{"$f":"HOUR(record!B25)","v":0},{"$f":"MINUTE(record!B25)","v":0},1,{"$f":"DAY(record!B25)-F25","v":-1},1,{"$f":"record!G25","v":0},{"$f":"record!F25","v":0}]
[{"$f":"record!C26","v":0},{"$f":"YEAR(record!B26)","v":1900},{"$f":"MONTH(record!B26)","v":1},{"$f":"HOUR(record!B26)","v":0},{"$f":"MINUTE(record!B26)","v":0},1,{"$f":"DAY(record!B26)-F26","v":-1},1,{"$f":"record!G26","v":0},{"$f":"record!F26","v":0}]
[{"$f":"record!C27","v":0},{"$f":"YEAR(record!B27)","v":1900},{"$f":"MONTH(record!B27)","v":1},{"$f":"HOUR(record!B27)","v":0},{"$f":"MINUTE(record!B27)","v":0},1,{"$f":"DAY(record!B27)-F27","v":-1},1,{"$f":"record!G27","v":0},{"$f":"record!F27","v":0}]
[{"$f":"record!C28","v":0},{"$f":"YEAR(record!B28)","v":1900},{"$f":"MONTH(record!B28)","v":1},{"$f":"HOUR(record!B28)","v":0},{"$f":"MINUTE(record!B28)","v":0},1,{"$f":"DAY(record!B28)-F28","v":-1},1,{"$f":"record!G28","v":0},{"$f":"record!F28","v":0}]
[{"$f":"record!C29","v":0},{"$f":"YEAR(record!B29)","v":1900},{"$f":"MONTH(record!B29)","v":1},{"$f":"HOUR(record!B29)","v":0},{"$f":"MINUTE(record!B29)","v":0},1,{"$f":"DAY(record!B29)-F29","v":-1},1,{"$f":"record!G29","v":0},{"$f":"record!F29","v":0}]
[{"$f":"record!C30","v":0},{"$f":"YEAR(record!B30)","v":1900},{"$f":"MONTH(record!B30)","v":1},{"$f":"HOUR(record!B30)","v":0},{"$f":"MINUTE(record!B30)","v":0},1,{"$f":"DAY(record!B30)-F30","v":-1},1,{"$f":"record!G30","v":0},{"$f":"record!F30","v":0}]
[{"$f":"record!C31","v":0},{"$f":"YEAR(record!B31)","v":1900},{"$f":"MONTH(record!B31)","v":1},{"$f":"HOUR(record!B31)","v":0},{"$f":"MINUTE(record!B31)","v":0},1,{"$f":"DAY(record!B31)-F31","v":-1},1,{"$f":"record!G31","v":0},{"$f":"record!F31","v":0}]
[{"$f":"record!C32","v":0},{"$f":"YEAR(record!B32)","v":1900},{"$f":"MONTH(record!B32)","v":1},{"$f":"HOUR(record!B32)","v":0},{"$f":"MINUTE(record!B32)","v":0},1,{"$f":"DAY(record!B32)-F32","v":-1},1,{"$f":"record!G32","v":0},{"$f":"record!F32","v":0}]
[{"$f":"record!C33","v":0},{"$f":"YEAR(record!B33)","v":1900},{"$f":"MONTH(record!B33)","v":1},{"$f":"HOUR(record!B33)","v":0},{"$f":"MINUTE(record!B33)","v":0},1,{"$f":"DAY(record!B33)-F33","v":-1},1,{"$f":"record!G33","v":0},{"$f":"record!F33","v":0}]
[{"$f":"record!C34","v":0},{"$f":"YEAR(record!B34)","v":1900},{"$f":"MONTH(record!B34)","v":1},{"$f":"HOUR(record!B34)","v":0},{"$f":"MINUTE(record!B34)","v":0},1,{"$f":"DAY(record!B34)-F34","v":-1},1,{"$f":"record!G34","v":0},{"$f":"record!F34","v":0}]
[{"$f":"record!C35","v":0},{"$f":"YEAR(record!B35)","v":1900},{"$f":"MONTH(record!B35)","v":1},{"$f":"HOUR(record!B35)","v":0},{"$f":"MINUTE(record!B35)","v":0},1,{"$f":"DAY(record!B35)-F35","v":-1},1,{"$f":"record!G35","v":0},{"$f":"record!F35","v":0}]
[{"$f":"record!C36","v":0},{"$f":"YEAR(record!B36)","v":1900},{"$f":"MONTH(record!B36)","v":1},{"$f":"HOUR(record!B36)","v":0},{"$f":"MINUTE(record!B36)","v":0},1,{"$f":"DAY(record!B36)-F36","v":-1},1,{"$f":"record!G36","v":0},{"$f":"record!F36","v":0}]
[{"$f":"record!C37","v":0},{"$f":"YEAR(record!B37)","v":1900},{"$f":"MONTH(record!B37)","v":1},{"$f":"HOUR(record!B37)","v":0},{"$f":"MINUTE(record!B37)","v":0},1,{"$f":"DAY(record!B37)-F37","v":-1},1,{"$f":"record!G37","v":0},{"$f":"record!F37","v":0}]
[{"$f":"record!C38","v":0},{"$f":"YEAR(record!B38)","v":1900},{"$f":"MONTH(record!B38)","v":1},{"$f":"HOUR(record!B38)","v":0},{"$f":"MINUTE(record!B38)","v":0},1,{"$f":"DAY(record!B38)-F38","v":-1},1,{"$f":"record!G38","v":0},{"$f":"record!F38","v":0}]
[{"$f":"record!C39","v":0},{"$f":"YEAR(record!B39)","v":1900},{"$f":"MONTH(record!B39)","v":1},{"$f":"HOUR(record!B39)","v":0},{"$f":"MINUTE(record!B39)","v":0},1,{"$f":"DAY(record!B39)-F39","v":-1},1,{"$f":"record!G39","v":0},{"$f":"record!F39","v":0}]
[{"$f":"record!C40","v":0},{"$f":"YEAR(record!B40)","v":1900},{"$f":"MONTH(record!B40)","v":1},{"$f":"HOUR(record!B40)","v":0},{"$f":"MINUTE(record!B40)","v":0},1,{"$f":"DAY(record!B40)-F40","v":-1},1,{"$f":"record!G40","v":0},{"$f":"record!F40","v":0}]
[{"$f":"record!C41","v":0},{"$f":"YEAR(record!B41)","v":1900},{"$f":"MONTH(record!B41)","v":1},{"$f":"HOUR(record!B41)","v":0},{"$f":"MINUTE(record!B41)","v":0},1,{"$f":"DAY(record!B41)-F41","v":-1},1,{"$f":"record!G41","v":0},{"$f":"record!F41","v":0}]
[{"$f":"record!C42","v":0},{"$f":"YEAR(record!B42)","v":1900},{"$f":"MONTH(record!B42)","v":1},{"$f":"HOUR(record!B42)","v":0},{"$f":"MINUTE(record!B42)","v":0},1,{"$f":"DAY(record!B42)-F42","v":-1},1,{"$f":"record!G42","v":0},{"$f":"record!F42","v":0}]
[{"$f":"record!C43","v":0},{"$f":"YEAR(record!B43)","v":1900},{"$f":"MONTH(record!B43)","v":1},{"$f":"HOUR(record!B43)","v":0},{"$f":"MINUTE(record!B43)","v":0},1,{"$f":"DAY(record!B43)-F43","v":-1},1,{"$f":"record!G43","v":0},{"$f":"record!F43","v":0}]
[{"$f":"record!C44","v":0},{"$f":"YEAR(record!B44)","v":1900},{"$f":"MONTH(record!B44)","v":1},{"$f":"HOUR(record!B44)","v":0},{"$f":"MINUTE(record!B44)","v":0},1,{"$f":"DAY(record!B44)-F44","v":-1},1,{"$f":"record!G44","v":0},{"$f":"record!F44","v":0}]
[{"$f":"record!C45","v":0},{"$f":"YEAR(record!B45)","v":1900},{"$f":"MONTH(record!B45)","v":1},{"$f":"HOUR(record!B45)","v":0},{"$f":"MINUTE(record!B45)","v":0},1,{"$f":"DAY(record!B45)-F45","v":-1},1,{"$f":"record!G45","v":0},{"$f":"record!F45","v":0}]
[{"$f":"record!C46","v":0},{"$f":"YEAR(record!B46)","v":1900},{"$f":"MONTH(record!B46)","v":1},{"$f":"HOUR(record!B46)","v":0},{"$f":"MINUTE(record!B46)","v":0},1,{"$f":"DAY(record!B46)-F46","v":-1},1,{"$f":"record!G46","v":0},{"$f":"record!F46","v":0}]
[{"$f":"record!C47","v":0},{"$f":"YEAR(record!B47)","v":1900},{"$f":"MONTH(record!B47)","v":1},{"$f":"HOUR(record!B47)","v":0},{"$f":"MINUTE(record!B47)","v":0},1,{"$f":"DAY(record!B47)-F47","v":-1},1,{"$f":"record!G47","v":0},{"$f":"record!F47","v":0}]
[{"$f":"record!C48","v":0},{"$f":"YEAR(record!B48)","v":1900},{"$f":"MONTH(record!B48)","v":1},{"$f":"HOUR(record!B48)","v":0},{"$f":"MINUTE(record!B48)","v":0},1,{"$f":"DAY(record!B48)-F48","v":-1},1,{"$f":"record!G48","v":0},{"$f":"record!F48","v":0}]
[{"$f":"record!C49","v":0},{"$f":"YEAR(record!B49)","v":1900},{"$f":"MONTH(record!B49)","v":1},{"$f":"HOUR(record!B49)","v":0},{"$f":"MINUTE(record!B49)","v":0},1,{"$f":"DAY(record!B49)-F49","v":-1},1,{"$f":"record!G49","v":0},{"$f":"record!F49","v":0}]
[{"$f":"record!C50","v":0},{"$f":"YEAR(record!B50)","v":1900},{"$f":"MONTH(record!B50)","v":1},{"$f":"HOUR(record!B50)","v":0},{"$f":"MINUTE(record!B50)","v":0},1,{"$f":"DAY(record!B50)-F50","v":-1},1,{"$f":"record!G50","v":0},{"$f":"record!F50","v":0}]
[{"$f":"record!C51","v":0},{"$f":"YEAR(record!B51)","v":1900},{"$f":"MONTH(record!B51)","v":1},{"$f":"HOUR(record!B51)","v":0},{"$f":"MINUTE(record!B51)","v":0},1,{"$f":"DAY(record!B51)-F51","v":-1},1,{"$f":"record!G51","v":0},{"$f":"record!F51","v":0}]
[{"$f":"record!C52","v":0},{"$f":"YEAR(record!B52)","v":1900},{"$f":"MONTH(record!B52)","v":1},{"$f":"HOUR(record!B52)","v":0},{"$f":"MINUTE(record!B52)","v":0},1,{"$f":"DAY(record!B52)-F52","v":-1},1,{"$f":"record!G52","v":0},{"$f":"record!F52","v":0}]
[{"$f":"record!C53","v":0},{"$f":"YEAR(record!B53)","v":1900},{"$f":"MONTH(record!B53)","v":1},{"$f":"HOUR(record!B53)","v":0},{"$f":"MINUTE(record!B53)","v":0},1,{"$f":"DAY(record!B53)-F53","v":-1},1,{"$f":"record!G53","v":0},{"$f":"record!F53","v":0}]
[{"$f":"record!C54","v":0},{"$f":"YEAR(record!B54)","v":1900},{"$f":"MONTH(record!B54)","v":1},{"$f":"HOUR(record!B54)","v":0},{"$f":"MINUTE(record!B54)","v":0},1,{"$f":"DAY(record!B54)-F54","v":-1},1,{"$f":"record!G54","v":0},{"$f":"record!F54","v":0}]
[{"$f":"record!C55","v":0},{"$f":"YEAR(record!B55)","v":1900},{"$f":"MONTH(record!B55)","v":1},{"$f":"HOUR(record!B55)","v":0},{"$f":"MINUTE(record!B55)","v":0},1,{"$f":"DAY(record!B55)-F55","v":-1},1,{"$f":"record!G55","v":0},{"$f":"record!F55","v":0}]
[{"$f":"record!C56","v":0},{"$f":"YEAR(record!B56)","v":1900},{"$f":"MONTH(record!B56)","v":1},{"$f":"HOUR(record!B56)","v":0},{"$f":"MINUTE(record!B56)","v":0},1,{"$f":"DAY(record!B56)-F56","v":-1},1,{"$f":"record!G56","v":0},{"$f":"record!F56","v":0}]
[{"$f":"record!C57","v":0},{"$f":"YEAR(record!B57)","v":1900},{"$f":"MONTH(record!B57)","v":1},{"$f":"HOUR(record!B57)","v":0},{"$f":"MINUTE(record!B57)","v":0},1,{"$f":"DAY(record!B57)-F57","v":-1},1,{"$f":"record!G57","v":0},{"$f":"record!F57","v":0}]
[{"$f":"record!C58","v":0},{"$f":"YEAR(record!B58)","v":1900},{"$f":"MONTH(record!B58)","v":1},{"$f":"HOUR(record!B58)","v":0},{"$f":"MINUTE(record!B58)","v":0},1,{"$f":"DAY(record!B58)-F58","v":-1},1,{"$f":"record!G58","v":0},{"$f":"record!F58","v":0}]
[{"$f":"record!C59","v":0},{"$f":"YEAR(record!B59)","v":1900},{"$f":"MONTH(record!B59)","v":1},{"$f":"HOUR(record!B59)","v":0},{"$f":"MINUTE(record!B59)","v":0},1,{"$f":"DAY(record!B59)-F59","v":-1},1,{"$f":"record!G59","v":0},{"$f":"record!F59","v":0}]
[{"$f":"record!C60","v":0},{"$f":"YEAR(record!B60)","v":1900},{"$f":"MONTH(record!B60)","v":1},{"$f":"HOUR(record!B60)","v":0},{"$f":"MINUTE(record!B60)","v":0},1,{"$f":"DAY(record!B60)-F60","v":-1},1,{"$f":"record!G60","v":0},{"$f":"record!F60","v":0}]
[{"$f":"record!C61","v":0},{"$f":"YEAR(record!B61)","v":1900},{"$f":"MONTH(record!B61)","v":1},{"$f":"HOUR(record!B61)","v":0},{"$f":"MINUTE(record!B61)","v":0},1,{"$f":"DAY(record!B61)-F61","v":-1},1,{"$f":"record!G61","v":0},{"$f":"record!F61","v":0}]
[{"$f":"record!C62","v":0},{"$f":"YEAR(record!B62)","v":1900},{"$f":"MONTH(record!B62)","v":1},{"$f":"HOUR(record!B62)","v":0},{"$f":"MINUTE(record!B62)","v":0},1,{"$f":"DAY(record!B62)-F62","v":-1},1,{"$f":"record!G62","v":0},{"$f":"record!F62","v":0}]
[{"$f":"record!C63","v":0},{"$f":"YEAR(record!B63)","v":1900},{"$f":"MONTH(record!B63)","v":1},{"$f":"HOUR(record!B63)","v":0},{"$f":"MINUTE(record!B63)","v":0},1,{"$f":"DAY(record!B63)-F63","v":-1},1,{"$f":"record!G63","v":0},{"$f":"record!F63","v":0}]
[{"$f":"record!C64","v":0},{"$f":"YEAR(record!B64)","v":1900},{"$f":"MONTH(record!B64)","v":1},{"$f":"HOUR(record!B64)","v":0},{"$f":"MINUTE(record!B64)","v":0},1,{"$f":"DAY(record!B64)-F64","v":-1},1,{"$f":"record!G64","v":0},{"$f":"record!F64","v":0}]
[{"$f":"record!C65","v":0},{"$f":"YEAR(record!B65)","v":1900},{"$f":"MONTH(record!B65)","v":1},{"$f":"HOUR(record!B65)","v":0},{"$f":"MINUTE(record!B65)","v":0},1,{"$f":"DAY(record!B65)-F65","v":-1},1,{"$f":"record!G65","v":0},{"$f":"record!F65","v":0}]
[{"$f":"record!C66","v":0},{"$f":"YEAR(record!B66)","v":1900},{"$f":"MONTH(record!B66)","v":1},{"$f":"HOUR(record!B66)","v":0},{"$f":"MINUTE(record!B66)","v":0},1,{"$f":"DAY(record!B66)-F66","v":-1},1,{"$f":"record!G66","v":0},{"$f":"record!F66","v":0}]
[{"$f":"record!C67","v":0},{"$f":"YEAR(record!B67)","v":1900},{"$f":"MONTH(record!B67)","v":1},{"$f":"HOUR(record!B67)","v":0},{"$f":"MINUTE(record!B67)","v":0},{"$f":"IF(D67+24>29,0,1)","v":1},{"$f":"DAY(record!B67)-F67","v":-1},{"$f":"TIME(D67,E67,)+F67","v":1},{"$f":"record!G67","v":0},{"$f":"record!F67","v":0}]
[{"$f":"record!C68","v":0},{"$f":"YEAR(record!B68)","v":1900},{"$f":"MONTH(record!B68)","v":1},{"$f":"HOUR(record!B68)","v":0},{"$f":"MINUTE(record!B68)","v":0},1,{"$f":"DAY(record!B68)-F68","v":-1},1,{"$f":"record!G68","v":0},{"$f":"record!F68","v":0}]
[{"$f":"record!C69","v":0},{"$f":"YEAR(record!B69)","v":1900},{"$f":"MONTH(record!B69)","v":1},{"$f":"HOUR(record!B69)","v":0},{"$f":"MINUTE(record!B69)","v":0},1,{"$f":"DAY(record!B69)-F69","v":-1},1,{"$f":"record!G69","v":0},{"$f":"record!F69","v":0}]
[{"$f":"record!C70","v":0},{"$f":"YEAR(record!B70)","v":1900},{"$f":"MONTH(record!B70)","v":1},{"$f":"HOUR(record!B70)","v":0},{"$f":"MINUTE(record!B70)","v":0},1,{"$f":"DAY(record!B70)-F70","v":-1},1,{"$f":"record!G70","v":0},{"$f":"record!F70","v":0}]
[{"$f":"record!C71","v":0},{"$f":"YEAR(record!B71)","v":1900},{"$f":"MONTH(record!B71)","v":1},{"$f":"HOUR(record!B71)","v":0},{"$f":"MINUTE(record!B71)","v":0},1,{"$f":"DAY(record!B71)-F71","v":-1},1,{"$f":"record!G71","v":0},{"$f":"record!F71","v":0}]
[{"$f":"record!C72","v":0},{"$f":"YEAR(record!B72)","v":1900},{"$f":"MONTH(record!B72)","v":1},{"$f":"HOUR(record!B72)","v":0},{"$f":"MINUTE(record!B72)","v":0},1,{"$f":"DAY(record!B72)-F72","v":-1},1,{"$f":"record!G72","v":0},{"$f":"record!F72","v":0}]
[{"$f":"record!C73","v":0},{"$f":"YEAR(record!B73)","v":1900},{"$f":"MONTH(record!B73)","v":1},{"$f":"HOUR(record!B73)","v":0},{"$f":"MINUTE(record!B73)","v":0},1,{"$f":"DAY(record!B73)-F73","v":-1},1,{"$f":"record!G73","v":0},{"$f":"record!F73","v":0}]
[{"$f":"record!C74","v":0},{"$f":"YEAR(record!B74)","v":1900},{"$f":"MONTH(record!B74)","v":1},{"$f":"HOUR(record!B74)","v":0},{"$f":"MINUTE(record!B74)","v":0},1,{"$f":"DAY(record!B74)-F74","v":-1},1,{"$f":"record!G74","v":0},{"$f":"record!F74","v":0}]
[{"$f":"record!C75","v":0},{"$f":"YEAR(record!B75)","v":1900},{"$f":"MONTH(record!B75)","v":1},{"$f":"HOUR(record!B75)","v":0},{"$f":"MINUTE(record!B75)","v":0},1,{"$f":"DAY(record!B75)-F75","v":-1},1,{"$f":"record!G75","v":0},{"$f":"record!F75","v":0}]
[{"$f":"record!C76","v":0},{"$f":"YEAR(record!B76)","v":1900},{"$f":"MONTH(record!B76)","v":1},{"$f":"HOUR(record!B76)","v":0},{"$f":"MINUTE(record!B76)","v":0},1,{"$f":"DAY(record!B76)-F76","v":-1},1,{"$f":"record!G76","v":0},{"$f":"record!F76","v":0}]
[{"$f":"record!C77","v":0},{"$f":"YEAR(record!B77)","v":1900},{"$f":"MONTH(record!B77)","v":1},{"$f":"HOUR(record!B77)","v":0},{"$f":"MINUTE(record!B77)","v":0},1,{"$f":"DAY(record!B77)-F77","v":-1},1,{"$f":"record!G77","v":0},{"$f":"record!F77","v":0}]
[{"$f":"record!C78","v":0},{"$f":"YEAR(record!B78)","v":1900},{"$f":"MONTH(record!B78)","v":1},{"$f":"HOUR(record!B78)","v":0},{"$f":"MINUTE(record!B78)","v":0},1,{"$f":"DAY(record!B78)-F78","v":-1},1,{"$f":"record!G78","v":0},{"$f":"record!F78","v":0}]
[{"$f":"record!C79","v":0},{"$f":"YEAR(record!B79)","v":1900},{"$f":"MONTH(record!B79)","v":1},{"$f":"HOUR(record!B79)","v":0},{"$f":"MINUTE(record!B79)","v":0},1,{"$f":"DAY(record!B79)-F79","v":-1},1,{"$f":"record!G79","v":0},{"$f":"record!F79","v":0}]
[{"$f":"record!C80","v":0},{"$f":"YEAR(record!B80)","v":1900},{"$f":"MONTH(record!B80)","v":1},{"$f":"HOUR(record!B80)","v":0},{"$f":"MINUTE(record!B80)","v":0},1,{"$f":"DAY(record!B80)-F80","v":-1},1,{"$f":"record!G80","v":0},{"$f":"record!F80","v":0}]
[{"$f":"record!C81","v":0},{"$f":"YEAR(record!B81)","v":1900},{"$f":"MONTH(record!B81)","v":1},{"$f":"HOUR(record!B81)","v":0},{"$f":"MINUTE(record!B81)","v":0},1,{"$f":"DAY(record!B81)-F81","v":-1},1,{"$f":"record!G81","v":0},{"$f":"record!F81","v":0}]
[{"$f":"record!C82","v":0},{"$f":"YEAR(record!B82)","v":1900},{"$f":"MONTH(record!B82)","v":1},{"$f":"HOUR(record!B82)","v":0},{"$f":"MINUTE(record!B82)","v":0},1,{"$f":"DAY(record!B82)-F82","v":-1},1,{"$f":"record!G82","v":0},{"$f":"record!F82","v":0}]
[{"$f":"record!C83","v":0},{"$f":"YEAR(record!B83)","v":1900},{"$f":"MONTH(record!B83)","v":1},{"$f":"HOUR(record!B83)","v":0},{"$f":"MINUTE(record!B83)","v":0},1,{"$f":"DAY(record!B83)-F83","v":-1},1,{"$f":"record!G83","v":0},{"$f":"record!F83","v":0}]
[{"$f":"record!C84","v":0},{"$f":"YEAR(record!B84)","v":1900},{"$f":"MONTH(record!B84)","v":1},{"$f":"HOUR(record!B84)","v":0},{"$f":"MINUTE(record!B84)","v":0},1,{"$f":"DAY(record!B84)-F84","v":-1},1,{"$f":"record!G84","v":0},{"$f":"record!F84","v":0}]
[{"$f":"record!C85","v":0},{"$f":"YEAR(record!B85)","v":1900},{"$f":"MONTH(record!B85)","v":1},{"$f":"HOUR(record!B85)","v":0},{"$f":"MINUTE(record!B85)","v":0},1,{"$f":"DAY(record!B85)-F85","v":-1},1,{"$f":"record!G85","v":0},{"$f":"record!F85","v":0}]
[{"$f":"record!C86","v":0},{"$f":"YEAR(record!B86)","v":1900},{"$f":"MONTH(record!B86)","v":1},{"$f":"HOUR(record!B86)","v":0},{"$f":"MINUTE(record!B86)","v":0},1,{"$f":"DAY(record!B86)-F86","v":-1},1,{"$f":"record!G86","v":0},{"$f":"record!F86","v":0}]
[{"$f":"record!C87","v":0},{"$f":"YEAR(record!B87)","v":1900},{"$f":"MONTH(record!B87)","v":1},{"$f":"HOUR(record!B87)","v":0},{"$f":"MINUTE(record!B87)","v":0},1,{"$f":"DAY(record!B87)-F87","v":-1},1,{"$f":"record!G87","v":0},{"$f":"record!F87","v":0}]
[{"$f":"record!C88","v":0},{"$f":"YEAR(record!B88)","v":1900},{"$f":"MONTH(record!B88)","v":1},{"$f":"HOUR(record!B88)","v":0},{"$f":"MINUTE(record!B88)","v":0},1,{"$f":"DAY(record!B88)-F88","v":-1},1,{"$f":"record!G88","v":0},{"$f":"record!F88","v":0}]
[{"$f":"record!C89","v":0},{"$f":"YEAR(record!B89)","v":1900},{"$f":"MONTH(record!B89)","v":1},{"$f":"HOUR(record!B89)","v":0},{"$f":"MINUTE(record!B89)","v":0},1,{"$f":"DAY(record!B89)-F89","v":-1},1,{"$f":"record!G89","v":0},{"$f":"record!F89","v":0}]
[{"$f":"record!C90","v":0},{"$f":"YEAR(record!B90)","v":1900},{"$f":"MONTH(record!B90)","v":1},{"$f":"HOUR(record!B90)","v":0},{"$f":"MINUTE(record!B90)","v":0},1,{"$f":"DAY(record!B90)-F90","v":-1},1,{"$f":"record!G90","v":0},{"$f":"record!F90","v":0}]
[{"$f":"record!C91","v":0},{"$f":"YEAR(record!B91)","v":1900},{"$f":"MONTH(record!B91)","v":1},{"$f":"HOUR(record!B91)","v":0},{"$f":"MINUTE(record!B91)","v":0},1,{"$f":"DAY(record!B91)-F91","v":-1},1,{"$f":"record!G91","v":0},{"$f":"record!F91","v":0}]
[{"$f":"record!C92","v":0},{"$f":"YEAR(record!B92)","v":1900},{"$f":"MONTH(record!B92)","v":1},{"$f":"HOUR(record!B92)","v":0},{"$f":"MINUTE(record!B92)","v":0},1,{"$f":"DAY(record!B92)-F92","v":-1},1,{"$f":"record!G92","v":0},{"$f":"record!F92","v":0}]
[{"$f":"record!C93","v":0},{"$f":"YEAR(record!B93)","v":1900},{"$f":"MONTH(record!B93)","v":1},{"$f":"HOUR(record!B93)","v":0},{"$f":"MINUTE(record!B93)","v":0},1,{"$f":"DAY(record!B93)-F93","v":-1},1,{"$f":"record!G93","v":0},{"$f":"record!F93","v":0}]
[{"$f":"record!C94","v":0},{"$f":"YEAR(record!B94)","v":1900},{"$f":"MONTH(record!B94)","v":1},{"$f":"HOUR(record!B94)","v":0},{"$f":"MINUTE(record!B94)","v":0},1,{"$f":"DAY(record!B94)-F94","v":-1},1,{"$f":"record!G94","v":0},{"$f":"record!F94","v":0}]
[{"$f":"record!C95","v":0},{"$f":"YEAR(record!B95)","v":1900},{"$f":"MONTH(record!B95)","v":1},{"$f":"HOUR(record!B95)","v":0},{"$f":"MINUTE(record!B95)","v":0},1,{"$f":"DAY(record!B95)-F95","v":-1},1,{"$f":"record!G95","v":0},{"$f":"record!F95","v":0}]
[{"$f":"record!C96","v":0},{"$f":"YEAR(record!B96)","v":1900},{"$f":"MONTH(record!B96)","v":1},{"$f":"HOUR(record!B96)","v":0},{"$f":"MINUTE(record!B96)","v":0},1,{"$f":"DAY(record!B96)-F96","v":-1},1,{"$f":"record!G96","v":0},{"$f":"record!F96","v":0}]
[{"$f":"record!C97","v":0},{"$f":"YEAR(record!B97)","v":1900},{"$f":"MONTH(record!B97)","v":1},{"$f":"HOUR(record!B97)","v":0},{"$f":"MINUTE(record!B97)","v":0},1,{"$f":"DAY(record!B97)-F97","v":-1},1,{"$f":"record!G97","v":0},{"$f":"record!F97","v":0}]
[{"$f":"record!C98","v":0},{"$f":"YEAR(record!B98)","v":1900},{"$f":"MONTH(record!B98)","v":1},{"$f":"HOUR(record!B98)","v":0},{"$f":"MINUTE(record!B98)","v":0},1,{"$f":"DAY(record!B98)-F98","v":-1},1,{"$f":"record!G98","v":0},{"$f":"record!F98","v":0}]
[{"$f":"record!C99","v":0},{"$f":"YEAR(record!B99)","v":1900},{"$f":"MONTH(record!B99)","v":1},{"$f":"HOUR(record!B99)","v":0},{"$f":"MINUTE(record!B99)","v":0},1,{"$f":"DAY(record!B99)-F99","v":-1},1,{"$f":"record!G99","v":0},{"$f":"record!F99","v":0}]
[{"$f":"record!C100","v":0},{"$f":"YEAR(record!B100)","v":1900},{"$f":"MONTH(record!B100)","v":1},{"$f":"HOUR(record!B100)","v":0},{"$f":"MINUTE(record!B100)","v":0},1,{"$f":"DAY(record!B100)-F100","v":-1},1,{"$f":"record!G100","v":0},{"$f":"record!F100","v":0}]
[{"$f":"record!C101","v":0},{"$f":"YEAR(record!B101)","v":1900},{"$f":"MONTH(record!B101)","v":1},{"$f":"HOUR(record!B101)","v":0},{"$f":"MINUTE(record!B101)","v":0},1,{"$f":"DAY(record!B101)-F101","v":-1},1,{"$f":"record!G101","v":0},{"$f":"record!F101","v":0}]

{"sheet":"タイムカード","index":7,"n_rows":40,"n_cols":19,"rows_kept":40,"cut":false,"hidden":false,"merged":[[1,3,1,5]]}
[null,null,null,null,null,null,null,null,null,null,null,null,null,null,null,null,"MaxRecord",{"$f":"COUNTA(cal!A:A)-1","v":100},"件"]
[null,"氏名",null,"富山　一郎",null,null,null,null,null,null,null,null,{"$f":"VALUE(record!B3)","v":"00:00:00"}]
[]
[]
[null,null,null,"タイムカード",null,null,null,"就業時間",null,null,null,"アルコール"]
[null,"日(曜日)",null,1,2,"合計","休憩","基本","残業","深夜","体温","出勤時","退勤時",null,null,"PDF形式でエクスポート"]
[null,{"$f":"DAY(DATE(cal!$B$2,cal!$C$2,1))","v":1},{"$f":"DATE(cal!$B$2,cal!$C$2,B7)","v":1},{"$f":"IFERROR(INDEX(OFFSET(cal!$H$1,0,0,$R$1-1,1),1/LARGE(INDEX((OFFSET(cal!$A$1,0,0,$R$1-1,1)=$D$2)*(OFFSET(cal!$G$1,0,0,$R$1-1,1)=$B7)/ROW(OFFSET(cal!$A$1,0,0,$R$1-1,1)),0),D$6)),\"\")","v":""},{"$f":"IFERROR(INDEX(OFFSET(cal!$H$1,0,0,$R$1-1,1),1/LARGE(INDEX((OFFSET(cal!$A$1,0,0,$R$1-1,1)=$D$2)*(OFFSET(cal!$G$1,0,0,$R$1-1,1)=$B7)/ROW(OFFSET(cal!$A$1,0,0,$R$1-1,1)),0),E$6)),\"\")","v":""},{"$f":"IF(ISERROR(E7-D7),\"\",E7-D7)","v":""},{"$f":"IF(F7=\"\",\"\",IF(E7-D7<=TIME(6,,),0,TIME(1,,)))","v":""},{"$f":"IF(F7=\"\",\"\",IF(F7-G7<TIME(8,,),F7-G7,TIME(8,,)))","v":""},{"$f":"IF(F7=\"\",\"\",F7-G7-H7)","v":""},{"$f":"IF(F7=\"\",\"\",IF(E7>TIME(22,,),E7-TIME(22,,),0))","v":""},{"$f":"IFERROR(INDEX(OFFSET(cal!$I$1,0,0,$R$1-1,1),1/LARGE(INDEX((OFFSET(cal!$A$1,0,0,$R$1-1,1)=$D$2)*(OFFSET(cal!$G$1,0,0,$R$1-1,1)=$B7)/ROW(OFFSET(cal!$A$1,0,0,$R$1-1,1)),0),D$6)),\"\")","v":""},{"$f":"IFERROR(INDEX(OFFSET(cal!$J$1,0,0,$R$1-1,1),1/LARGE(INDEX((OFFSET(cal!$A$1,0,0,$R$1-1,1)=$D$2)*(OFFSET(cal!$G$1,0,0,$R$1-1,1)=$B7)/ROW(OFFSET(cal!$A$1,0,0,$R$1-1,1)),0),D$6)),\"\")","v":""},{"$f":"IFERROR(INDEX(OFFSET(cal!$J$1,0,0,$R$1-1,1),1/LARGE(INDEX((OFFSET(cal!$A$1,0,0,$R$1-1,1)=$D$2)*(OFFSET(cal!$G$1,0,0,$R$1-1,1)=$B7)/ROW(OFFSET(cal!$A$1,0,0,$R$1-1,1)),0),E$6)),\"\")","v":""}]
[null,{"$f":"B7+1","v":2},{"$f":"DATE(cal!$B$2,cal!$C$2,B8)","v":2},{"$f":"IFERROR(INDEX(OFFSET(cal!$H$1,0,0,$R$1-1,1),1/LARGE(INDEX((OFFSET(cal!$A$1,0,0,$R$1-1,1)=$D$2)*(OFFSET(cal!$G$1,0,0,$R$1-1,1)=$B8)/ROW(OFFSET(cal!$A$1,0,0,$R$1-1,1)),0),D$6)),\"\")","v":""},{"$f":"IFERROR(INDEX(OFFSET(cal!$H$1,0,0,$R$1-1,1),1/LARGE(INDEX((OFFSET(cal!$A$1,0,0,$R$1-1,1)=$D$2)*(OFFSET(cal!$G$1,0,0,$R$1-1,1)=$B8)/ROW(OFFSET(cal!$A$1,0,0,$R$1-1,1)),0),E$6)),\"\")","v":""},{"$f":"IF(ISERROR(E8-D8),\"\",E8-D8)","v":""},{"$f":"IF(F8=\"\",\"\",IF(E8-D8<=TIME(6,,),0,TIME(1,,)))","v":""},{"$f":"IF(F8=\"\",\"\",IF(F8-G8<TIME(8,,),F8-G8,TIME(8,,)))","v":""},{"$f":"IF(F8=\"\",\"\",F8-G8-H8)","v":""},{"$f":"IF(F8=\"\",\"\",IF(E8>TIME(22,,),E8-TIME(22,,),0))","v":""},{"$f":"IFERROR(INDEX(OFFSET(cal!$I$1,0,0,$R$1-1,1),1/LARGE(INDEX((OFFSET(cal!$A$1,0,0,$R$1-1,1)=$D$2)*(OFFSET(cal!$G$1,0,0,$R$1-1,1)=$B8)/ROW(OFFSET(cal!$A$1,0,0,$R$1-1,1)),0),D$6)),\"\")","v":""},{"$f":"IFERROR(INDEX(OFFSET(cal!$J$1,0,0,$R$1-1,1),1/LARGE(INDEX((OFFSET(cal!$A$1,0,0,$R$1-1,1)=$D$2)*(OFFSET(cal!$G$1,0,0,$R$1-1,1)=$B8)/ROW(OFFSET(cal!$A$1,0,0,$R$1-1,1)),0),D$6)),\"\")","v":""},{"$f":"IFERROR(INDEX(OFFSET(cal!$J$1,0,0,$R$1-1,1),1/LARGE(INDEX((OFFSET(cal!$A$1,0,0,$R$1-1,1)=$D$2)*(OFFSET(cal!$G$1,0,0,$R$1-1,1)=$B8)/ROW(OFFSET(cal!$A$1,0,0,$R$1-1,1)),0),E$6)),\"\")","v":""}]
[null,{"$f":"B8+1","v":3},{"$f":"DATE(cal!$B$2,cal!$C$2,B9)","v":3},{"$f":"IFERROR(INDEX(OFFSET(cal!$H$1,0,0,$R$1-1,1),1/LARGE(INDEX((OFFSET(cal!$A$1,0,0,$R$1-1,1)=$D$2)*(OFFSET(cal!$G$1,0,0,$R$1-1,1)=$B9)/ROW(OFFSET(cal!$A$1,0,0,$R$1-1,1)),0),D$6)),\"\")","v":""},{"$f":"IFERROR(INDEX(OFFSET(cal!$H$1,0,0,$R$1-1,1),1/LARGE(INDEX((OFFSET(cal!$A$1,0,0,$R$1-1,1)=$D$2)*(OFFSET(cal!$G$1,0,0,$R$1-1,1)=$B9)/ROW(OFFSET(cal!$A$1,0,0,$R$1-1,1)),0),E$6)),\"\")","v":""},"","","","","",{"$f":"IFERROR(INDEX(OFFSET(cal!$I$1,0,0,$R$1-1,1),1/LARGE(INDEX((OFFSET(cal!$A$1,0,0,$R$1-1,1)=$D$2)*(OFFSET(cal!$G$1,0,0,$R$1-1,1)=$B9)/ROW(OFFSET(cal!$A$1,0,0,$R$1-1,1)),0),D$6)),\"\")","v":""},{"$f":"IFERROR(INDEX(OFFSET(cal!$J$1,0,0,$R$1-1,1),1/LARGE(INDEX((OFFSET(cal!$A$1,0,0,$R$1-1,1)=$D$2)*(OFFSET(cal!$G$1,0,0,$R$1-1,1)=$B9)/ROW(OFFSET(cal!$A$1,0,0,$R$1-1,1)),0),D$6)),\"\")","v":""},{"$f":"IFERROR(INDEX(OFFSET(cal!$J$1,0,0,$R$1-1,1),1/LARGE(INDEX((OFFSET(cal!$A$1,0,0,$R$1-1,1)=$D$2)*(OFFSET(cal!$G$1,0,0,$R$1-1,1)=$B9)/ROW(OFFSET(cal!$A$1,0,0,$R$1-1,1)),0),E$6)),\"\")","v":""}]
[null,4,{"$f":"DATE(cal!$B$2,cal!$C$2,B10)","v":4},{"$f":"IFERROR(INDEX(OFFSET(cal!$H$1,0,0,$R$1-1,1),1/LARGE(INDEX((OFFSET(cal!$A$1,0,0,$R$1-1,1)=$D$2)*(OFFSET(cal!$G$1,0,0,$R$1-1,1)=$B10)/ROW(OFFSET(cal!$A$1,0,0,$R$1-1,1)),0),D$6)),\"\")","v":""},{"$f":"IFERROR(INDEX(OFFSET(cal!$H$1,0,0,$R$1-1,1),1/LARGE(INDEX((OFFSET(cal!$A$1,0,0,$R$1-1,1)=$D$2)*(OFFSET(cal!$G$1,0,0,$R$1-1,1)=$B10)/ROW(OFFSET(cal!$A$1,0,0,$R$1-1,1)),0),E$6)),\"\")","v":""},"","","","","",{"$f":"IFERROR(INDEX(OFFSET(cal!$I$1,0,0,$R$1-1,1),1/LARGE(INDEX((OFFSET(cal!$A$1,0,0,$R$1-1,1)=$D$2)*(OFFSET(cal!$G$1,0,0,$R$1-1,1)=$B10)/ROW(OFFSET(cal!$A$1,0,0,$R$1-1,1)),0),D$6)),\"\")","v":""},{"$f":"IFERROR(INDEX(OFFSET(cal!$J$1,0,0,$R$1-1,1),1/LARGE(INDEX((OFFSET(cal!$A$1,0,0,$R$1-1,1)=$D$2)*(OFFSET(cal!$G$1,0,0,$R$1-1,1)=$B10)/ROW(OFFSET(cal!$A$1,0,0,$R$1-1,1)),0),D$6)),\"\")","v":""},{"$f":"IFERROR(INDEX(OFFSET(cal!$J$1,0,0,$R$1-1,1),1/LARGE(INDEX((OFFSET(cal!$A$1,0,0,$R$1-1,1)=$D$2)*(OFFSET(cal!$G$1,0,0,$R$1-1,1)=$B10)/ROW(OFFSET(cal!$A$1,0,0,$R$1-1,1)),0),E$6)),\"\")","v":""}]
[null,5,{"$f":"DATE(cal!$B$2,cal!$C$2,B11)","v":5},{"$f":"IFERROR(INDEX(OFFSET(cal!$H$1,0,0,$R$1-1,1),1/LARGE(INDEX((OFFSET(cal!$A$1,0,0,$R$1-1,1)=$D$2)*(OFFSET(cal!$G$1,0,0,$R$1-1,1)=$B11)/ROW(OFFSET(cal!$A$1,0,0,$R$1-1,1)),0),D$6)),\"\")","v":""},{"$f":"IFERROR(INDEX(OFFSET(cal!$H$1,0,0,$R$1-1,1),1/LARGE(INDEX((OFFSET(cal!$A$1,0,0,$R$1-1,1)=$D$2)*(OFFSET(cal!$G$1,0,0,$R$1-1,1)=$B11)/ROW(OFFSET(cal!$A$1,0,0,$R$1-1,1)),0),E$6)),\"\")","v":""},"","","","","",{"$f":"IFERROR(INDEX(OFFSET(cal!$I$1,0,0,$R$1-1,1),1/LARGE(INDEX((OFFSET(cal!$A$1,0,0,$R$1-1,1)=$D$2)*(OFFSET(cal!$G$1,0,0,$R$1-1,1)=$B11)/ROW(OFFSET(cal!$A$1,0,0,$R$1-1,1)),0),D$6)),\"\")","v":""},{"$f":"IFERROR(INDEX(OFFSET(cal!$J$1,0,0,$R$1-1,1),1/LARGE(INDEX((OFFSET(cal!$A$1,0,0,$R$1-1,1)=$D$2)*(OFFSET(cal!$G$1,0,0,$R$1-1,1)=$B11)/ROW(OFFSET(cal!$A$1,0,0,$R$1-1,1)),0),D$6)),\"\")","v":""},{"$f":"IFERROR(INDEX(OFFSET(cal!$J$1,0,0,$R$1-1,1),1/LARGE(INDEX((OFFSET(cal!$A$1,0,0,$R$1-1,1)=$D$2)*(OFFSET(cal!$G$1,0,0,$R$1-1,1)=$B11)/ROW(OFFSET(cal!$A$1,0,0,$R$1-1,1)),0),E$6)),\"\")","v":""}]
[null,6,{"$f":"DATE(cal!$B$2,cal!$C$2,B12)","v":6},{"$f":"IFERROR(INDEX(OFFSET(cal!$H$1,0,0,$R$1-1,1),1/LARGE(INDEX((OFFSET(cal!$A$1,0,0,$R$1-1,1)=$D$2)*(OFFSET(cal!$G$1,0,0,$R$1-1,1)=$B12)/ROW(OFFSET(cal!$A$1,0,0,$R$1-1,1)),0),D$6)),\"\")","v":""},{"$f":"IFERROR(INDEX(OFFSET(cal!$H$1,0,0,$R$1-1,1),1/LARGE(INDEX((OFFSET(cal!$A$1,0,0,$R$1-1,1)=$D$2)*(OFFSET(cal!$G$1,0,0,$R$1-1,1)=$B12)/ROW(OFFSET(cal!$A$1,0,0,$R$1-1,1)),0),E$6)),\"\")","v":""},"","","","","",{"$f":"IFERROR(INDEX(OFFSET(cal!$I$1,0,0,$R$1-1,1),1/LARGE(INDEX((OFFSET(cal!$A$1,0,0,$R$1-1,1)=$D$2)*(OFFSET(cal!$G$1,0,0,$R$1-1,1)=$B12)/ROW(OFFSET(cal!$A$1,0,0,$R$1-1,1)),0),D$6)),\"\")","v":""},{"$f":"IFERROR(INDEX(OFFSET(cal!$J$1,0,0,$R$1-1,1),1/LARGE(INDEX((OFFSET(cal!$A$1,0,0,$R$1-1,1)=$D$2)*(OFFSET(cal!$G$1,0,0,$R$1-1,1)=$B12)/ROW(OFFSET(cal!$A$1,0,0,$R$1-1,1)),0),D$6)),\"\")","v":""},{"$f":"IFERROR(INDEX(OFFSET(cal!$J$1,0,0,$R$1-1,1),1/LARGE(INDEX((OFFSET(cal!$A$1,0,0,$R$1-1,1)=$D$2)*(OFFSET(cal!$G$1,0,0,$R$1-1,1)=$B12)/ROW(OFFSET(cal!$A$1,0,0,$R$1-1,1)),0),E$6)),\"\")","v":""}]
[null,7,{"$f":"DATE(cal!$B$2,cal!$C$2,B13)","v":7},{"$f":"IFERROR(INDEX(OFFSET(cal!$H$1,0,0,$R$1-1,1),1/LARGE(INDEX((OFFSET(cal!$A$1,0,0,$R$1-1,1)=$D$2)*(OFFSET(cal!$G$1,0,0,$R$1-1,1)=$B13)/ROW(OFFSET(cal!$A$1,0,0,$R$1-1,1)),0),D$6)),\"\")","v":""},{"$f":"IFERROR(INDEX(OFFSET(cal!$H$1,0,0,$R$1-1,1),1/LARGE(INDEX((OFFSET(cal!$A$1,0,0,$R$1-1,1)=$D$2)*(OFFSET(cal!$G$1,0,0,$R$1-1,1)=$B13)/ROW(OFFSET(cal!$A$1,0,0,$R$1-1,1)),0),E$6)),\"\")","v":""},"","","","","",{"$f":"IFERROR(INDEX(OFFSET(cal!$I$1,0,0,$R$1-1,1),1/LARGE(INDEX((OFFSET(cal!$A$1,0,0,$R$1-1,1)=$D$2)*(OFFSET(cal!$G$1,0,0,$R$1-1,1)=$B13)/ROW(OFFSET(cal!$A$1,0,0,$R$1-1,1)),0),D$6)),\"\")","v":""},{"$f":"IFERROR(INDEX(OFFSET(cal!$J$1,0,0,$R$1-1,1),1/LARGE(INDEX((OFFSET(cal!$A$1,0,0,$R$1-1,1)=$D$2)*(OFFSET(cal!$G$1,0,0,$R$1-1,1)=$B13)/ROW(OFFSET(cal!$A$1,0,0,$R$1-1,1)),0),D$6)),\"\")","v":""},{"$f":"IFERROR(INDEX(OFFSET(cal!$J$1,0,0,$R$1-1,1),1/LARGE(INDEX((OFFSET(cal!$A$1,0,0,$R$1-1,1)=$D$2)*(OFFSET(cal!$G$1,0,0,$R$1-1,1)=$B13)/ROW(OFFSET(cal!$A$1,0,0,$R$1-1,1)),0),E$6)),\"\")","v":""}]
[null,8,{"$f":"DATE(cal!$B$2,cal!$C$2,B14)","v":8},{"$f":"IFERROR(INDEX(OFFSET(cal!$H$1,0,0,$R$1-1,1),1/LARGE(INDEX((OFFSET(cal!$A$1,0,0,$R$1-1,1)=$D$2)*(OFFSET(cal!$G$1,0,0,$R$1-1,1)=$B14)/ROW(OFFSET(cal!$A$1,0,0,$R$1-1,1)),0),D$6)),\"\")","v":""},{"$f":"IFERROR(INDEX(OFFSET(cal!$H$1,0,0,$R$1-1,1),1/LARGE(INDEX((OFFSET(cal!$A$1,0,0,$R$1-1,1)=$D$2)*(OFFSET(cal!$G$1,0,0,$R$1-1,1)=$B14)/ROW(OFFSET(cal!$A$1,0,0,$R$1-1,1)),0),E$6)),\"\")","v":""},"","","","","",{"$f":"IFERROR(INDEX(OFFSET(cal!$I$1,0,0,$R$1-1,1),1/LARGE(INDEX((OFFSET(cal!$A$1,0,0,$R$1-1,1)=$D$2)*(OFFSET(cal!$G$1,0,0,$R$1-1,1)=$B14)/ROW(OFFSET(cal!$A$1,0,0,$R$1-1,1)),0),D$6)),\"\")","v":""},{"$f":"IFERROR(INDEX(OFFSET(cal!$J$1,0,0,$R$1-1,1),1/LARGE(INDEX((OFFSET(cal!$A$1,0,0,$R$1-1,1)=$D$2)*(OFFSET(cal!$G$1,0,0,$R$1-1,1)=$B14)/ROW(OFFSET(cal!$A$1,0,0,$R$1-1,1)),0),D$6)),\"\")","v":""},{"$f":"IFERROR(INDEX(OFFSET(cal!$J$1,0,0,$R$1-1,1),1/LARGE(INDEX((OFFSET(cal!$A$1,0,0,$R$1-1,1)=$D$2)*(OFFSET(cal!$G$1,0,0,$R$1-1,1)=$B14)/ROW(OFFSET(cal!$A$1,0,0,$R$1-1,1)),0),E$6)),\"\")","v":""},null,"※全従業員の出力は、少しタイムラグがあります。"]
[null,9,{"$f":"DATE(cal!$B$2,cal!$C$2,B15)","v":9},{"$f":"IFERROR(INDEX(OFFSET(cal!$H$1,0,0,$R$1-1,1),1/LARGE(INDEX((OFFSET(cal!$A$1,0,0,$R$1-1,1)=$D$2)*(OFFSET(cal!$G$1,0,0,$R$1-1,1)=$B15)/ROW(OFFSET(cal!$A$1,0,0,$R$1-1,1)),0),D$6)),\"\")","v":""},{"$f":"IFERROR(INDEX(OFFSET(cal!$H$1,0,0,$R$1-1,1),1/LARGE(INDEX((OFFSET(cal!$A$1,0,0,$R$1-1,1)=$D$2)*(OFFSET(cal!$G$1,0,0,$R$1-1,1)=$B15)/ROW(OFFSET(cal!$A$1,0,0,$R$1-1,1)),0),E$6)),\"\")","v":""},"","","","","",{"$f":"IFERROR(INDEX(OFFSET(cal!$I$1,0,0,$R$1-1,1),1/LARGE(INDEX((OFFSET(cal!$A$1,0,0,$R$1-1,1)=$D$2)*(OFFSET(cal!$G$1,0,0,$R$1-1,1)=$B15)/ROW(OFFSET(cal!$A$1,0,0,$R$1-1,1)),0),D$6)),\"\")","v":""},{"$f":"IFERROR(INDEX(OFFSET(cal!$J$1,0,0,$R$1-1,1),1/LARGE(INDEX((OFFSET(cal!$A$1,0,0,$R$1-1,1)=$D$2)*(OFFSET(cal!$G$1,0,0,$R$1-1,1)=$B15)/ROW(OFFSET(cal!$A$1,0,0,$R$1-1,1)),0),D$6)),\"\")","v":""},{"$f":"IFERROR(INDEX(OFFSET(cal!$J$1,0,0,$R$1-1,1),1/LARGE(INDEX((OFFSET(cal!$A$1,0,0,$R$1-1,1)=$D$2)*(OFFSET(cal!$G$1,0,0,$R$1-1,1)=$B15)/ROW(OFFSET(cal!$A$1,0,0,$R$1-1,1)),0),E$6)),\"\")","v":""},null,"※PDFはマージされません"]
[null,10,{"$f":"DATE(cal!$B$2,cal!$C$2,B16)","v":10},{"$f":"IFERROR(INDEX(OFFSET(cal!$H$1,0,0,$R$1-1,1),1/LARGE(INDEX((OFFSET(cal!$A$1,0,0,$R$1-1,1)=$D$2)*(OFFSET(cal!$G$1,0,0,$R$1-1,1)=$B16)/ROW(OFFSET(cal!$A$1,0,0,$R$1-1,1)),0),D$6)),\"\")","v":""},{"$f":"IFERROR(INDEX(OFFSET(cal!$H$1,0,0,$R$1-1,1),1/LARGE(INDEX((OFFSET(cal!$A$1,0,0,$R$1-1,1)=$D$2)*(OFFSET(cal!$G$1,0,0,$R$1-1,1)=$B16)/ROW(OFFSET(cal!$A$1,0,0,$R$1-1,1)),0),E$6)),\"\")","v":""},"","","","","",{"$f":"IFERROR(INDEX(OFFSET(cal!$I$1,0,0,$R$1-1,1),1/LARGE(INDEX((OFFSET(cal!$A$1,0,0,$R$1-1,1)=$D$2)*(OFFSET(cal!$G$1,0,0,$R$1-1,1)=$B16)/ROW(OFFSET(cal!$A$1,0,0,$R$1-1,1)),0),D$6)),\"\")","v":""},{"$f":"IFERROR(INDEX(OFFSET(cal!$J$1,0,0,$R$1-1,1),1/LARGE(INDEX((OFFSET(cal!$A$1,0,0,$R$1-1,1)=$D$2)*(OFFSET(cal!$G$1,0,0,$R$1-1,1)=$B16)/ROW(OFFSET(cal!$A$1,0,0,$R$1-1,1)),0),D$6)),\"\")","v":""},{"$f":"IFERROR(INDEX(OFFSET(cal!$J$1,0,0,$R$1-1,1),1/LARGE(INDEX((OFFSET(cal!$A$1,0,0,$R$1-1,1)=$D$2)*(OFFSET(cal!$G$1,0,0,$R$1-1,1)=$B16)/ROW(OFFSET(cal!$A$1,0,0,$R$1-1,1)),0),E$6)),\"\")","v":""}]
[null,11,{"$f":"DATE(cal!$B$2,cal!$C$2,B17)","v":11},{"$f":"IFERROR(INDEX(OFFSET(cal!$H$1,0,0,$R$1-1,1),1/LARGE(INDEX((OFFSET(cal!$A$1,0,0,$R$1-1,1)=$D$2)*(OFFSET(cal!$G$1,0,0,$R$1-1,1)=$B17)/ROW(OFFSET(cal!$A$1,0,0,$R$1-1,1)),0),D$6)),\"\")","v":""},{"$f":"IFERROR(INDEX(OFFSET(cal!$H$1,0,0,$R$1-1,1),1/LARGE(INDEX((OFFSET(cal!$A$1,0,0,$R$1-1,1)=$D$2)*(OFFSET(cal!$G$1,0,0,$R$1-1,1)=$B17)/ROW(OFFSET(cal!$A$1,0,0,$R$1-1,1)),0),E$6)),\"\")","v":""},"","","","","",{"$f":"IFERROR(INDEX(OFFSET(cal!$I$1,0,0,$R$1-1,1),1/LARGE(INDEX((OFFSET(cal!$A$1,0,0,$R$1-1,1)=$D$2)*(OFFSET(cal!$G$1,0,0,$R$1-1,1)=$B17)/ROW(OFFSET(cal!$A$1,0,0,$R$1-1,1)),0),D$6)),\"\")","v":""},{"$f":"IFERROR(INDEX(OFFSET(cal!$J$1,0,0,$R$1-1,1),1/LARGE(INDEX((OFFSET(cal!$A$1,0,0,$R$1-1,1)=$D$2)*(OFFSET(cal!$G$1,0,0,$R$1-1,1)=$B17)/ROW(OFFSET(cal!$A$1,0,0,$R$1-1,1)),0),D$6)),\"\")","v":""},{"$f":"IFERROR(INDEX(OFFSET(cal!$J$1,0,0,$R$1-1,1),1/LARGE(INDEX((OFFSET(cal!$A$1,0,0,$R$1-1,1)=$D$2)*(OFFSET(cal!$G$1,0,0,$R$1-1,1)=$B17)/ROW(OFFSET(cal!$A$1,0,0,$R$1-1,1)),0),E$6)),\"\")","v":""}]
[null,12,{"$f":"DATE(cal!$B$2,cal!$C$2,B18)","v":12},{"$f":"IFERROR(INDEX(OFFSET(cal!$H$1,0,0,$R$1-1,1),1/LARGE(INDEX((OFFSET(cal!$A$1,0,0,$R$1-1,1)=$D$2)*(OFFSET(cal!$G$1,0,0,$R$1-1,1)=$B18)/ROW(OFFSET(cal!$A$1,0,0,$R$1-1,1)),0),D$6)),\"\")","v":""},{"$f":"IFERROR(INDEX(OFFSET(cal!$H$1,0,0,$R$1-1,1),1/LARGE(INDEX((OFFSET(cal!$A$1,0,0,$R$1-1,1)=$D$2)*(OFFSET(cal!$G$1,0,0,$R$1-1,1)=$B18)/ROW(OFFSET(cal!$A$1,0,0,$R$1-1,1)),0),E$6)),\"\")","v":""},"","","","","",{"$f":"IFERROR(INDEX(OFFSET(cal!$I$1,0,0,$R$1-1,1),1/LARGE(INDEX((OFFSET(cal!$A$1,0,0,$R$1-1,1)=$D$2)*(OFFSET(cal!$G$1,0,0,$R$1-1,1)=$B18)/ROW(OFFSET(cal!$A$1,0,0,$R$1-1,1)),0),D$6)),\"\")","v":""},{"$f":"IFERROR(INDEX(OFFSET(cal!$J$1,0,0,$R$1-1,1),1/LARGE(INDEX((OFFSET(cal!$A$1,0,0,$R$1-1,1)=$D$2)*(OFFSET(cal!$G$1,0,0,$R$1-1,1)=$B18)/ROW(OFFSET(cal!$A$1,0,0,$R$1-1,1)),0),D$6)),\"\")","v":""},{"$f":"IFERROR(INDEX(OFFSET(cal!$J$1,0,0,$R$1-1,1),1/LARGE(INDEX((OFFSET(cal!$A$1,0,0,$R$1-1,1)=$D$2)*(OFFSET(cal!$G$1,0,0,$R$1-1,1)=$B18)/ROW(OFFSET(cal!$A$1,0,0,$R$1-1,1)),0),E$6)),\"\")","v":""}]
[null,13,{"$f":"DATE(cal!$B$2,cal!$C$2,B19)","v":13},{"$f":"IFERROR(INDEX(OFFSET(cal!$H$1,0,0,$R$1-1,1),1/LARGE(INDEX((OFFSET(cal!$A$1,0,0,$R$1-1,1)=$D$2)*(OFFSET(cal!$G$1,0,0,$R$1-1,1)=$B19)/ROW(OFFSET(cal!$A$1,0,0,$R$1-1,1)),0),D$6)),\"\")","v":""},{"$f":"IFERROR(INDEX(OFFSET(cal!$H$1,0,0,$R$1-1,1),1/LARGE(INDEX((OFFSET(cal!$A$1,0,0,$R$1-1,1)=$D$2)*(OFFSET(cal!$G$1,0,0,$R$1-1,1)=$B19)/ROW(OFFSET(cal!$A$1,0,0,$R$1-1,1)),0),E$6)),\"\")","v":""},"","","","","",{"$f":"IFERROR(INDEX(OFFSET(cal!$I$1,0,0,$R$1-1,1),1/LARGE(INDEX((OFFSET(cal!$A$1,0,0,$R$1-1,1)=$D$2)*(OFFSET(cal!$G$1,0,0,$R$1-1,1)=$B19)/ROW(OFFSET(cal!$A$1,0,0,$R$1-1,1)),0),D$6)),\"\")","v":""},{"$f":"IFERROR(INDEX(OFFSET(cal!$J$1,0,0,$R$1-1,1),1/LARGE(INDEX((OFFSET(cal!$A$1,0,0,$R$1-1,1)=$D$2)*(OFFSET(cal!$G$1,0,0,$R$1-1,1)=$B19)/ROW(OFFSET(cal!$A$1,0,0,$R$1-1,1)),0),D$6)),\"\")","v":""},{"$f":"IFERROR(INDEX(OFFSET(cal!$J$1,0,0,$R$1-1,1),1/LARGE(INDEX((OFFSET(cal!$A$1,0,0,$R$1-1,1)=$D$2)*(OFFSET(cal!$G$1,0,0,$R$1-1,1)=$B19)/ROW(OFFSET(cal!$A$1,0,0,$R$1-1,1)),0),E$6)),\"\")","v":""}]
[null,14,{"$f":"DATE(cal!$B$2,cal!$C$2,B20)","v":14},{"$f":"IFERROR(INDEX(OFFSET(cal!$H$1,0,0,$R$1-1,1),1/LARGE(INDEX((OFFSET(cal!$A$1,0,0,$R$1-1,1)=$D$2)*(OFFSET(cal!$G$1,0,0,$R$1-1,1)=$B20)/ROW(OFFSET(cal!$A$1,0,0,$R$1-1,1)),0),D$6)),\"\")","v":""},{"$f":"IFERROR(INDEX(OFFSET(cal!$H$1,0,0,$R$1-1,1),1/LARGE(INDEX((OFFSET(cal!$A$1,0,0,$R$1-1,1)=$D$2)*(OFFSET(cal!$G$1,0,0,$R$1-1,1)=$B20)/ROW(OFFSET(cal!$A$1,0,0,$R$1-1,1)),0),E$6)),\"\")","v":""},"","","","","",{"$f":"IFERROR(INDEX(OFFSET(cal!$I$1,0,0,$R$1-1,1),1/LARGE(INDEX((OFFSET(cal!$A$1,0,0,$R$1-1,1)=$D$2)*(OFFSET(cal!$G$1,0,0,$R$1-1,1)=$B20)/ROW(OFFSET(cal!$A$1,0,0,$R$1-1,1)),0),D$6)),\"\")","v":""},{"$f":"IFERROR(INDEX(OFFSET(cal!$J$1,0,0,$R$1-1,1),1/LARGE(INDEX((OFFSET(cal!$A$1,0,0,$R$1-1,1)=$D$2)*(OFFSET(cal!$G$1,0,0,$R$1-1,1)=$B20)/ROW(OFFSET(cal!$A$1,0,0,$R$1-1,1)),0),D$6)),\"\")","v":""},{"$f":"IFERROR(INDEX(OFFSET(cal!$J$1,0,0,$R$1-1,1),1/LARGE(INDEX((OFFSET(cal!$A$1,0,0,$R$1-1,1)=$D$2)*(OFFSET(cal!$G$1,0,0,$R$1-1,1)=$B20)/ROW(OFFSET(cal!$A$1,0,0,$R$1-1,1)),0),E$6)),\"\")","v":""}]
[null,15,{"$f":"DATE(cal!$B$2,cal!$C$2,B21)","v":15},{"$f":"IFERROR(INDEX(OFFSET(cal!$H$1,0,0,$R$1-1,1),1/LARGE(INDEX((OFFSET(cal!$A$1,0,0,$R$1-1,1)=$D$2)*(OFFSET(cal!$G$1,0,0,$R$1-1,1)=$B21)/ROW(OFFSET(cal!$A$1,0,0,$R$1-1,1)),0),D$6)),\"\")","v":""},{"$f":"IFERROR(INDEX(OFFSET(cal!$H$1,0,0,$R$1-1,1),1/LARGE(INDEX((OFFSET(cal!$A$1,0,0,$R$1-1,1)=$D$2)*(OFFSET(cal!$G$1,0,0,$R$1-1,1)=$B21)/ROW(OFFSET(cal!$A$1,0,0,$R$1-1,1)),0),E$6)),\"\")","v":""},"","","","","",{"$f":"IFERROR(INDEX(OFFSET(cal!$I$1,0,0,$R$1-1,1),1/LARGE(INDEX((OFFSET(cal!$A$1,0,0,$R$1-1,1)=$D$2)*(OFFSET(cal!$G$1,0,0,$R$1-1,1)=$B21)/ROW(OFFSET(cal!$A$1,0,0,$R$1-1,1)),0),D$6)),\"\")","v":""},{"$f":"IFERROR(INDEX(OFFSET(cal!$J$1,0,0,$R$1-1,1),1/LARGE(INDEX((OFFSET(cal!$A$1,0,0,$R$1-1,1)=$D$2)*(OFFSET(cal!$G$1,0,0,$R$1-1,1)=$B21)/ROW(OFFSET(cal!$A$1,0,0,$R$1-1,1)),0),D$6)),\"\")","v":""},{"$f":"IFERROR(INDEX(OFFSET(cal!$J$1,0,0,$R$1-1,1),1/LARGE(INDEX((OFFSET(cal!$A$1,0,0,$R$1-1,1)=$D$2)*(OFFSET(cal!$G$1,0,0,$R$1-1,1)=$B21)/ROW(OFFSET(cal!$A$1,0,0,$R$1-1,1)),0),E$6)),\"\")","v":""}]
[null,16,{"$f":"DATE(cal!$B$2,cal!$C$2,B22)","v":16},{"$f":"IFERROR(INDEX(OFFSET(cal!$H$1,0,0,$R$1-1,1),1/LARGE(INDEX((OFFSET(cal!$A$1,0,0,$R$1-1,1)=$D$2)*(OFFSET(cal!$G$1,0,0,$R$1-1,1)=$B22)/ROW(OFFSET(cal!$A$1,0,0,$R$1-1,1)),0),D$6)),\"\")","v":""},{"$f":"IFERROR(INDEX(OFFSET(cal!$H$1,0,0,$R$1-1,1),1/LARGE(INDEX((OFFSET(cal!$A$1,0,0,$R$1-1,1)=$D$2)*(OFFSET(cal!$G$1,0,0,$R$1-1,1)=$B22)/ROW(OFFSET(cal!$A$1,0,0,$R$1-1,1)),0),E$6)),\"\")","v":""},"","","","","",{"$f":"IFERROR(INDEX(OFFSET(cal!$I$1,0,0,$R$1-1,1),1/LARGE(INDEX((OFFSET(cal!$A$1,0,0,$R$1-1,1)=$D$2)*(OFFSET(cal!$G$1,0,0,$R$1-1,1)=$B22)/ROW(OFFSET(cal!$A$1,0,0,$R$1-1,1)),0),D$6)),\"\")","v":""},{"$f":"IFERROR(INDEX(OFFSET(cal!$J$1,0,0,$R$1-1,1),1/LARGE(INDEX((OFFSET(cal!$A$1,0,0,$R$1-1,1)=$D$2)*(OFFSET(cal!$G$1,0,0,$R$1-1,1)=$B22)/ROW(OFFSET(cal!$A$1,0,0,$R$1-1,1)),0),D$6)),\"\")","v":""},{"$f":"IFERROR(INDEX(OFFSET(cal!$J$1,0,0,$R$1-1,1),1/LARGE(INDEX((OFFSET(cal!$A$1,0,0,$R$1-1,1)=$D$2)*(OFFSET(cal!$G$1,0,0,$R$1-1,1)=$B22)/ROW(OFFSET(cal!$A$1,0,0,$R$1-1,1)),0),E$6)),\"\")","v":""}]
[null,17,{"$f":"DATE(cal!$B$2,cal!$C$2,B23)","v":17},{"$f":"IFERROR(INDEX(OFFSET(cal!$H$1,0,0,$R$1-1,1),1/LARGE(INDEX((OFFSET(cal!$A$1,0,0,$R$1-1,1)=$D$2)*(OFFSET(cal!$G$1,0,0,$R$1-1,1)=$B23)/ROW(OFFSET(cal!$A$1,0,0,$R$1-1,1)),0),D$6)),\"\")","v":""},{"$f":"IFERROR(INDEX(OFFSET(cal!$H$1,0,0,$R$1-1,1),1/LARGE(INDEX((OFFSET(cal!$A$1,0,0,$R$1-1,1)=$D$2)*(OFFSET(cal!$G$1,0,0,$R$1-1,1)=$B23)/ROW(OFFSET(cal!$A$1,0,0,$R$1-1,1)),0),E$6)),\"\")","v":""},"","","","","",{"$f":"IFERROR(INDEX(OFFSET(cal!$I$1,0,0,$R$1-1,1),1/LARGE(INDEX((OFFSET(cal!$A$1,0,0,$R$1-1,1)=$D$2)*(OFFSET(cal!$G$1,0,0,$R$1-1,1)=$B23)/ROW(OFFSET(cal!$A$1,0,0,$R$1-1,1)),0),D$6)),\"\")","v":""},{"$f":"IFERROR(INDEX(OFFSET(cal!$J$1,0,0,$R$1-1,1),1/LARGE(INDEX((OFFSET(cal!$A$1,0,0,$R$1-1,1)=$D$2)*(OFFSET(cal!$G$1,0,0,$R$1-1,1)=$B23)/ROW(OFFSET(cal!$A$1,0,0,$R$1-1,1)),0),D$6)),\"\")","v":""},{"$f":"IFERROR(INDEX(OFFSET(cal!$J$1,0,0,$R$1-1,1),1/LARGE(INDEX((OFFSET(cal!$A$1,0,0,$R$1-1,1)=$D$2)*(OFFSET(cal!$G$1,0,0,$R$1-1,1)=$B23)/ROW(OFFSET(cal!$A$1,0,0,$R$1-1,1)),0),E$6)),\"\")","v":""}]
[null,18,{"$f":"DATE(cal!$B$2,cal!$C$2,B24)","v":18},{"$f":"IFERROR(INDEX(OFFSET(cal!$H$1,0,0,$R$1-1,1),1/LARGE(INDEX((OFFSET(cal!$A$1,0,0,$R$1-1,1)=$D$2)*(OFFSET(cal!$G$1,0,0,$R$1-1,1)=$B24)/ROW(OFFSET(cal!$A$1,0,0,$R$1-1,1)),0),D$6)),\"\")","v":""},{"$f":"IFERROR(INDEX(OFFSET(cal!$H$1,0,0,$R$1-1,1),1/LARGE(INDEX((OFFSET(cal!$A$1,0,0,$R$1-1,1)=$D$2)*(OFFSET(cal!$G$1,0,0,$R$1-1,1)=$B24)/ROW(OFFSET(cal!$A$1,0,0,$R$1-1,1)),0),E$6)),\"\")","v":""},"","","","","",{"$f":"IFERROR(INDEX(OFFSET(cal!$I$1,0,0,$R$1-1,1),1/LARGE(INDEX((OFFSET(cal!$A$1,0,0,$R$1-1,1)=$D$2)*(OFFSET(cal!$G$1,0,0,$R$1-1,1)=$B24)/ROW(OFFSET(cal!$A$1,0,0,$R$1-1,1)),0),D$6)),\"\")","v":""},{"$f":"IFERROR(INDEX(OFFSET(cal!$J$1,0,0,$R$1-1,1),1/LARGE(INDEX((OFFSET(cal!$A$1,0,0,$R$1-1,1)=$D$2)*(OFFSET(cal!$G$1,0,0,$R$1-1,1)=$B24)/ROW(OFFSET(cal!$A$1,0,0,$R$1-1,1)),0),D$6)),\"\")","v":""},{"$f":"IFERROR(INDEX(OFFSET(cal!$J$1,0,0,$R$1-1,1),1/LARGE(INDEX((OFFSET(cal!$A$1,0,0,$R$1-1,1)=$D$2)*(OFFSET(cal!$G$1,0,0,$R$1-1,1)=$B24)/ROW(OFFSET(cal!$A$1,0,0,$R$1-1,1)),0),E$6)),\"\")","v":""}]
[null,19,{"$f":"DATE(cal!$B$2,cal!$C$2,B25)","v":19},{"$f":"IFERROR(INDEX(OFFSET(cal!$H$1,0,0,$R$1-1,1),1/LARGE(INDEX((OFFSET(cal!$A$1,0,0,$R$1-1,1)=$D$2)*(OFFSET(cal!$G$1,0,0,$R$1-1,1)=$B25)/ROW(OFFSET(cal!$A$1,0,0,$R$1-1,1)),0),D$6)),\"\")","v":""},{"$f":"IFERROR(INDEX(OFFSET(cal!$H$1,0,0,$R$1-1,1),1/LARGE(INDEX((OFFSET(cal!$A$1,0,0,$R$1-1,1)=$D$2)*(OFFSET(cal!$G$1,0,0,$R$1-1,1)=$B25)/ROW(OFFSET(cal!$A$1,0,0,$R$1-1,1)),0),E$6)),\"\")","v":""},"","","","","",{"$f":"IFERROR(INDEX(OFFSET(cal!$I$1,0,0,$R$1-1,1),1/LARGE(INDEX((OFFSET(cal!$A$1,0,0,$R$1-1,1)=$D$2)*(OFFSET(cal!$G$1,0,0,$R$1-1,1)=$B25)/ROW(OFFSET(cal!$A$1,0,0,$R$1-1,1)),0),D$6)),\"\")","v":""},{"$f":"IFERROR(INDEX(OFFSET(cal!$J$1,0,0,$R$1-1,1),1/LARGE(INDEX((OFFSET(cal!$A$1,0,0,$R$1-1,1)=$D$2)*(OFFSET(cal!$G$1,0,0,$R$1-1,1)=$B25)/ROW(OFFSET(cal!$A$1,0,0,$R$1-1,1)),0),D$6)),\"\")","v":""},{"$f":"IFERROR(INDEX(OFFSET(cal!$J$1,0,0,$R$1-1,1),1/LARGE(INDEX((OFFSET(cal!$A$1,0,0,$R$1-1,1)=$D$2)*(OFFSET(cal!$G$1,0,0,$R$1-1,1)=$B25)/ROW(OFFSET(cal!$A$1,0,0,$R$1-1,1)),0),E$6)),\"\")","v":""}]
[null,20,{"$f":"DATE(cal!$B$2,cal!$C$2,B26)","v":20},{"$f":"IFERROR(INDEX(OFFSET(cal!$H$1,0,0,$R$1-1,1),1/LARGE(INDEX((OFFSET(cal!$A$1,0,0,$R$1-1,1)=$D$2)*(OFFSET(cal!$G$1,0,0,$R$1-1,1)=$B26)/ROW(OFFSET(cal!$A$1,0,0,$R$1-1,1)),0),D$6)),\"\")","v":""},{"$f":"IFERROR(INDEX(OFFSET(cal!$H$1,0,0,$R$1-1,1),1/LARGE(INDEX((OFFSET(cal!$A$1,0,0,$R$1-1,1)=$D$2)*(OFFSET(cal!$G$1,0,0,$R$1-1,1)=$B26)/ROW(OFFSET(cal!$A$1,0,0,$R$1-1,1)),0),E$6)),\"\")","v":""},"","","","","",{"$f":"IFERROR(INDEX(OFFSET(cal!$I$1,0,0,$R$1-1,1),1/LARGE(INDEX((OFFSET(cal!$A$1,0,0,$R$1-1,1)=$D$2)*(OFFSET(cal!$G$1,0,0,$R$1-1,1)=$B26)/ROW(OFFSET(cal!$A$1,0,0,$R$1-1,1)),0),D$6)),\"\")","v":""},{"$f":"IFERROR(INDEX(OFFSET(cal!$J$1,0,0,$R$1-1,1),1/LARGE(INDEX((OFFSET(cal!$A$1,0,0,$R$1-1,1)=$D$2)*(OFFSET(cal!$G$1,0,0,$R$1-1,1)=$B26)/ROW(OFFSET(cal!$A$1,0,0,$R$1-1,1)),0),D$6)),\"\")","v":""},{"$f":"IFERROR(INDEX(OFFSET(cal!$J$1,0,0,$R$1-1,1),1/LARGE(INDEX((OFFSET(cal!$A$1,0,0,$R$1-1,1)=$D$2)*(OFFSET(cal!$G$1,0,0,$R$1-1,1)=$B26)/ROW(OFFSET(cal!$A$1,0,0,$R$1-1,1)),0),E$6)),\"\")","v":""}]
[null,21,{"$f":"DATE(cal!$B$2,cal!$C$2,B27)","v":21},{"$f":"IFERROR(INDEX(OFFSET(cal!$H$1,0,0,$R$1-1,1),1/LARGE(INDEX((OFFSET(cal!$A$1,0,0,$R$1-1,1)=$D$2)*(OFFSET(cal!$G$1,0,0,$R$1-1,1)=$B27)/ROW(OFFSET(cal!$A$1,0,0,$R$1-1,1)),0),D$6)),\"\")","v":""},{"$f":"IFERROR(INDEX(OFFSET(cal!$H$1,0,0,$R$1-1,1),1/LARGE(INDEX((OFFSET(cal!$A$1,0,0,$R$1-1,1)=$D$2)*(OFFSET(cal!$G$1,0,0,$R$1-1,1)=$B27)/ROW(OFFSET(cal!$A$1,0,0,$R$1-1,1)),0),E$6)),\"\")","v":""},"","","","","",{"$f":"IFERROR(INDEX(OFFSET(cal!$I$1,0,0,$R$1-1,1),1/LARGE(INDEX((OFFSET(cal!$A$1,0,0,$R$1-1,1)=$D$2)*(OFFSET(cal!$G$1,0,0,$R$1-1,1)=$B27)/ROW(OFFSET(cal!$A$1,0,0,$R$1-1,1)),0),D$6)),\"\")","v":""},{"$f":"IFERROR(INDEX(OFFSET(cal!$J$1,0,0,$R$1-1,1),1/LARGE(INDEX((OFFSET(cal!$A$1,0,0,$R$1-1,1)=$D$2)*(OFFSET(cal!$G$1,0,0,$R$1-1,1)=$B27)/ROW(OFFSET(cal!$A$1,0,0,$R$1-1,1)),0),D$6)),\"\")","v":""},{"$f":"IFERROR(INDEX(OFFSET(cal!$J$1,0,0,$R$1-1,1),1/LARGE(INDEX((OFFSET(cal!$A$1,0,0,$R$1-1,1)=$D$2)*(OFFSET(cal!$G$1,0,0,$R$1-1,1)=$B27)/ROW(OFFSET(cal!$A$1,0,0,$R$1-1,1)),0),E$6)),\"\")","v":""}]
[null,22,{"$f":"DATE(cal!$B$2,cal!$C$2,B28)","v":22},{"$f":"IFERROR(INDEX(OFFSET(cal!$H$1,0,0,$R$1-1,1),1/LARGE(INDEX((OFFSET(cal!$A$1,0,0,$R$1-1,1)=$D$2)*(OFFSET(cal!$G$1,0,0,$R$1-1,1)=$B28)/ROW(OFFSET(cal!$A$1,0,0,$R$1-1,1)),0),D$6)),\"\")","v":""},{"$f":"IFERROR(INDEX(OFFSET(cal!$H$1,0,0,$R$1-1,1),1/LARGE(INDEX((OFFSET(cal!$A$1,0,0,$R$1-1,1)=$D$2)*(OFFSET(cal!$G$1,0,0,$R$1-1,1)=$B28)/ROW(OFFSET(cal!$A$1,0,0,$R$1-1,1)),0),E$6)),\"\")","v":""},"","","","","",{"$f":"IFERROR(INDEX(OFFSET(cal!$I$1,0,0,$R$1-1,1),1/LARGE(INDEX((OFFSET(cal!$A$1,0,0,$R$1-1,1)=$D$2)*(OFFSET(cal!$G$1,0,0,$R$1-1,1)=$B28)/ROW(OFFSET(cal!$A$1,0,0,$R$1-1,1)),0),D$6)),\"\")","v":""},{"$f":"IFERROR(INDEX(OFFSET(cal!$J$1,0,0,$R$1-1,1),1/LARGE(INDEX((OFFSET(cal!$A$1,0,0,$R$1-1,1)=$D$2)*(OFFSET(cal!$G$1,0,0,$R$1-1,1)=$B28)/ROW(OFFSET(cal!$A$1,0,0,$R$1-1,1)),0),D$6)),\"\")","v":""},{"$f":"IFERROR(INDEX(OFFSET(cal!$J$1,0,0,$R$1-1,1),1/LARGE(INDEX((OFFSET(cal!$A$1,0,0,$R$1-1,1)=$D$2)*(OFFSET(cal!$G$1,0,0,$R$1-1,1)=$B28)/ROW(OFFSET(cal!$A$1,0,0,$R$1-1,1)),0),E$6)),\"\")","v":""}]
[null,23,{"$f":"DATE(cal!$B$2,cal!$C$2,B29)","v":23},{"$f":"IFERROR(INDEX(OFFSET(cal!$H$1,0,0,$R$1-1,1),1/LARGE(INDEX((OFFSET(cal!$A$1,0,0,$R$1-1,1)=$D$2)*(OFFSET(cal!$G$1,0,0,$R$1-1,1)=$B29)/ROW(OFFSET(cal!$A$1,0,0,$R$1-1,1)),0),D$6)),\"\")","v":""},{"$f":"IFERROR(INDEX(OFFSET(cal!$H$1,0,0,$R$1-1,1),1/LARGE(INDEX((OFFSET(cal!$A$1,0,0,$R$1-1,1)=$D$2)*(OFFSET(cal!$G$1,0,0,$R$1-1,1)=$B29)/ROW(OFFSET(cal!$A$1,0,0,$R$1-1,1)),0),E$6)),\"\")","v":""},"","","","","",{"$f":"IFERROR(INDEX(OFFSET(cal!$I$1,0,0,$R$1-1,1),1/LARGE(INDEX((OFFSET(cal!$A$1,0,0,$R$1-1,1)=$D$2)*(OFFSET(cal!$G$1,0,0,$R$1-1,1)=$B29)/ROW(OFFSET(cal!$A$1,0,0,$R$1-1,1)),0),D$6)),\"\")","v":""},{"$f":"IFERROR(INDEX(OFFSET(cal!$J$1,0,0,$R$1-1,1),1/LARGE(INDEX((OFFSET(cal!$A$1,0,0,$R$1-1,1)=$D$2)*(OFFSET(cal!$G$1,0,0,$R$1-1,1)=$B29)/ROW(OFFSET(cal!$A$1,0,0,$R$1-1,1)),0),D$6)),\"\")","v":""},{"$f":"IFERROR(INDEX(OFFSET(cal!$J$1,0,0,$R$1-1,1),1/LARGE(INDEX((OFFSET(cal!$A$1,0,0,$R$1-1,1)=$D$2)*(OFFSET(cal!$G$1,0,0,$R$1-1,1)=$B29)/ROW(OFFSET(cal!$A$1,0,0,$R$1-1,1)),0),E$6)),\"\")","v":""}]
[null,24,{"$f":"DATE(cal!$B$2,cal!$C$2,B30)","v":24},{"$f":"IFERROR(INDEX(OFFSET(cal!$H$1,0,0,$R$1-1,1),1/LARGE(INDEX((OFFSET(cal!$A$1,0,0,$R$1-1,1)=$D$2)*(OFFSET(cal!$G$1,0,0,$R$1-1,1)=$B30)/ROW(OFFSET(cal!$A$1,0,0,$R$1-1,1)),0),D$6)),\"\")","v":""},{"$f":"IFERROR(INDEX(OFFSET(cal!$H$1,0,0,$R$1-1,1),1/LARGE(INDEX((OFFSET(cal!$A$1,0,0,$R$1-1,1)=$D$2)*(OFFSET(cal!$G$1,0,0,$R$1-1,1)=$B30)/ROW(OFFSET(cal!$A$1,0,0,$R$1-1,1)),0),E$6)),\"\")","v":""},"","","","","",{"$f":"IFERROR(INDEX(OFFSET(cal!$I$1,0,0,$R$1-1,1),1/LARGE(INDEX((OFFSET(cal!$A$1,0,0,$R$1-1,1)=$D$2)*(OFFSET(cal!$G$1,0,0,$R$1-1,1)=$B30)/ROW(OFFSET(cal!$A$1,0,0,$R$1-1,1)),0),D$6)),\"\")","v":""},{"$f":"IFERROR(INDEX(OFFSET(cal!$J$1,0,0,$R$1-1,1),1/LARGE(INDEX((OFFSET(cal!$A$1,0,0,$R$1-1,1)=$D$2)*(OFFSET(cal!$G$1,0,0,$R$1-1,1)=$B30)/ROW(OFFSET(cal!$A$1,0,0,$R$1-1,1)),0),D$6)),\"\")","v":""},{"$f":"IFERROR(INDEX(OFFSET(cal!$J$1,0,0,$R$1-1,1),1/LARGE(INDEX((OFFSET(cal!$A$1,0,0,$R$1-1,1)=$D$2)*(OFFSET(cal!$G$1,0,0,$R$1-1,1)=$B30)/ROW(OFFSET(cal!$A$1,0,0,$R$1-1,1)),0),E$6)),\"\")","v":""}]
[null,25,{"$f":"DATE(cal!$B$2,cal!$C$2,B31)","v":25},{"$f":"IFERROR(INDEX(OFFSET(cal!$H$1,0,0,$R$1-1,1),1/LARGE(INDEX((OFFSET(cal!$A$1,0,0,$R$1-1,1)=$D$2)*(OFFSET(cal!$G$1,0,0,$R$1-1,1)=$B31)/ROW(OFFSET(cal!$A$1,0,0,$R$1-1,1)),0),D$6)),\"\")","v":""},{"$f":"IFERROR(INDEX(OFFSET(cal!$H$1,0,0,$R$1-1,1),1/LARGE(INDEX((OFFSET(cal!$A$1,0,0,$R$1-1,1)=$D$2)*(OFFSET(cal!$G$1,0,0,$R$1-1,1)=$B31)/ROW(OFFSET(cal!$A$1,0,0,$R$1-1,1)),0),E$6)),\"\")","v":""},"","","","","",{"$f":"IFERROR(INDEX(OFFSET(cal!$I$1,0,0,$R$1-1,1),1/LARGE(INDEX((OFFSET(cal!$A$1,0,0,$R$1-1,1)=$D$2)*(OFFSET(cal!$G$1,0,0,$R$1-1,1)=$B31)/ROW(OFFSET(cal!$A$1,0,0,$R$1-1,1)),0),D$6)),\"\")","v":""},{"$f":"IFERROR(INDEX(OFFSET(cal!$J$1,0,0,$R$1-1,1),1/LARGE(INDEX((OFFSET(cal!$A$1,0,0,$R$1-1,1)=$D$2)*(OFFSET(cal!$G$1,0,0,$R$1-1,1)=$B31)/ROW(OFFSET(cal!$A$1,0,0,$R$1-1,1)),0),D$6)),\"\")","v":""},{"$f":"IFERROR(INDEX(OFFSET(cal!$J$1,0,0,$R$1-1,1),1/LARGE(INDEX((OFFSET(cal!$A$1,0,0,$R$1-1,1)=$D$2)*(OFFSET(cal!$G$1,0,0,$R$1-1,1)=$B31)/ROW(OFFSET(cal!$A$1,0,0,$R$1-1,1)),0),E$6)),\"\")","v":""}]
[null,26,{"$f":"DATE(cal!$B$2,cal!$C$2,B32)","v":26},{"$f":"IFERROR(INDEX(OFFSET(cal!$H$1,0,0,$R$1-1,1),1/LARGE(INDEX((OFFSET(cal!$A$1,0,0,$R$1-1,1)=$D$2)*(OFFSET(cal!$G$1,0,0,$R$1-1,1)=$B32)/ROW(OFFSET(cal!$A$1,0,0,$R$1-1,1)),0),D$6)),\"\")","v":""},{"$f":"IFERROR(INDEX(OFFSET(cal!$H$1,0,0,$R$1-1,1),1/LARGE(INDEX((OFFSET(cal!$A$1,0,0,$R$1-1,1)=$D$2)*(OFFSET(cal!$G$1,0,0,$R$1-1,1)=$B32)/ROW(OFFSET(cal!$A$1,0,0,$R$1-1,1)),0),E$6)),\"\")","v":""},"","","","","",{"$f":"IFERROR(INDEX(OFFSET(cal!$I$1,0,0,$R$1-1,1),1/LARGE(INDEX((OFFSET(cal!$A$1,0,0,$R$1-1,1)=$D$2)*(OFFSET(cal!$G$1,0,0,$R$1-1,1)=$B32)/ROW(OFFSET(cal!$A$1,0,0,$R$1-1,1)),0),D$6)),\"\")","v":""},{"$f":"IFERROR(INDEX(OFFSET(cal!$J$1,0,0,$R$1-1,1),1/LARGE(INDEX((OFFSET(cal!$A$1,0,0,$R$1-1,1)=$D$2)*(OFFSET(cal!$G$1,0,0,$R$1-1,1)=$B32)/ROW(OFFSET(cal!$A$1,0,0,$R$1-1,1)),0),D$6)),\"\")","v":""},{"$f":"IFERROR(INDEX(OFFSET(cal!$J$1,0,0,$R$1-1,1),1/LARGE(INDEX((OFFSET(cal!$A$1,0,0,$R$1-1,1)=$D$2)*(OFFSET(cal!$G$1,0,0,$R$1-1,1)=$B32)/ROW(OFFSET(cal!$A$1,0,0,$R$1-1,1)),0),E$6)),\"\")","v":""}]
[null,27,{"$f":"DATE(cal!$B$2,cal!$C$2,B33)","v":27},{"$f":"IFERROR(INDEX(OFFSET(cal!$H$1,0,0,$R$1-1,1),1/LARGE(INDEX((OFFSET(cal!$A$1,0,0,$R$1-1,1)=$D$2)*(OFFSET(cal!$G$1,0,0,$R$1-1,1)=$B33)/ROW(OFFSET(cal!$A$1,0,0,$R$1-1,1)),0),D$6)),\"\")","v":""},{"$f":"IFERROR(INDEX(OFFSET(cal!$H$1,0,0,$R$1-1,1),1/LARGE(INDEX((OFFSET(cal!$A$1,0,0,$R$1-1,1)=$D$2)*(OFFSET(cal!$G$1,0,0,$R$1-1,1)=$B33)/ROW(OFFSET(cal!$A$1,0,0,$R$1-1,1)),0),E$6)),\"\")","v":""},"","","","","",{"$f":"IFERROR(INDEX(OFFSET(cal!$I$1,0,0,$R$1-1,1),1/LARGE(INDEX((OFFSET(cal!$A$1,0,0,$R$1-1,1)=$D$2)*(OFFSET(cal!$G$1,0,0,$R$1-1,1)=$B33)/ROW(OFFSET(cal!$A$1,0,0,$R$1-1,1)),0),D$6)),\"\")","v":""},{"$f":"IFERROR(INDEX(OFFSET(cal!$J$1,0,0,$R$1-1,1),1/LARGE(INDEX((OFFSET(cal!$A$1,0,0,$R$1-1,1)=$D$2)*(OFFSET(cal!$G$1,0,0,$R$1-1,1)=$B33)/ROW(OFFSET(cal!$A$1,0,0,$R$1-1,1)),0),D$6)),\"\")","v":""},{"$f":"IFERROR(INDEX(OFFSET(cal!$J$1,0,0,$R$1-1,1),1/LARGE(INDEX((OFFSET(cal!$A$1,0,0,$R$1-1,1)=$D$2)*(OFFSET(cal!$G$1,0,0,$R$1-1,1)=$B33)/ROW(OFFSET(cal!$A$1,0,0,$R$1-1,1)),0),E$6)),\"\")","v":""}]
[null,28,{"$f":"DATE(cal!$B$2,cal!$C$2,B34)","v":28},{"$f":"IFERROR(INDEX(OFFSET(cal!$H$1,0,0,$R$1-1,1),1/LARGE(INDEX((OFFSET(cal!$A$1,0,0,$R$1-1,1)=$D$2)*(OFFSET(cal!$G$1,0,0,$R$1-1,1)=$B34)/ROW(OFFSET(cal!$A$1,0,0,$R$1-1,1)),0),D$6)),\"\")","v":""},{"$f":"IFERROR(INDEX(OFFSET(cal!$H$1,0,0,$R$1-1,1),1/LARGE(INDEX((OFFSET(cal!$A$1,0,0,$R$1-1,1)=$D$2)*(OFFSET(cal!$G$1,0,0,$R$1-1,1)=$B34)/ROW(OFFSET(cal!$A$1,0,0,$R$1-1,1)),0),E$6)),\"\")","v":""},"","","","","",{"$f":"IFERROR(INDEX(OFFSET(cal!$I$1,0,0,$R$1-1,1),1/LARGE(INDEX((OFFSET(cal!$A$1,0,0,$R$1-1,1)=$D$2)*(OFFSET(cal!$G$1,0,0,$R$1-1,1)=$B34)/ROW(OFFSET(cal!$A$1,0,0,$R$1-1,1)),0),D$6)),\"\")","v":""},{"$f":"IFERROR(INDEX(OFFSET(cal!$J$1,0,0,$R$1-1,1),1/LARGE(INDEX((OFFSET(cal!$A$1,0,0,$R$1-1,1)=$D$2)*(OFFSET(cal!$G$1,0,0,$R$1-1,1)=$B34)/ROW(OFFSET(cal!$A$1,0,0,$R$1-1,1)),0),D$6)),\"\")","v":""},{"$f":"IFERROR(INDEX(OFFSET(cal!$J$1,0,0,$R$1-1,1),1/LARGE(INDEX((OFFSET(cal!$A$1,0,0,$R$1-1,1)=$D$2)*(OFFSET(cal!$G$1,0,0,$R$1-1,1)=$B34)/ROW(OFFSET(cal!$A$1,0,0,$R$1-1,1)),0),E$6)),\"\")","v":""}]
[null,29,{"$f":"DATE(cal!$B$2,cal!$C$2,B35)","v":29},{"$f":"IFERROR(INDEX(OFFSET(cal!$H$1,0,0,$R$1-1,1),1/LARGE(INDEX((OFFSET(cal!$A$1,0,0,$R$1-1,1)=$D$2)*(OFFSET(cal!$G$1,0,0,$R$1-1,1)=$B35)/ROW(OFFSET(cal!$A$1,0,0,$R$1-1,1)),0),D$6)),\"\")","v":""},{"$f":"IFERROR(INDEX(OFFSET(cal!$H$1,0,0,$R$1-1,1),1/LARGE(INDEX((OFFSET(cal!$A$1,0,0,$R$1-1,1)=$D$2)*(OFFSET(cal!$G$1,0,0,$R$1-1,1)=$B35)/ROW(OFFSET(cal!$A$1,0,0,$R$1-1,1)),0),E$6)),\"\")","v":""},"","","","","",{"$f":"IFERROR(INDEX(OFFSET(cal!$I$1,0,0,$R$1-1,1),1/LARGE(INDEX((OFFSET(cal!$A$1,0,0,$R$1-1,1)=$D$2)*(OFFSET(cal!$G$1,0,0,$R$1-1,1)=$B35)/ROW(OFFSET(cal!$A$1,0,0,$R$1-1,1)),0),D$6)),\"\")","v":""},{"$f":"IFERROR(INDEX(OFFSET(cal!$J$1,0,0,$R$1-1,1),1/LARGE(INDEX((OFFSET(cal!$A$1,0,0,$R$1-1,1)=$D$2)*(OFFSET(cal!$G$1,0,0,$R$1-1,1)=$B35)/ROW(OFFSET(cal!$A$1,0,0,$R$1-1,1)),0),D$6)),\"\")","v":""},{"$f":"IFERROR(INDEX(OFFSET(cal!$J$1,0,0,$R$1-1,1),1/LARGE(INDEX((OFFSET(cal!$A$1,0,0,$R$1-1,1)=$D$2)*(OFFSET(cal!$G$1,0,0,$R$1-1,1)=$B35)/ROW(OFFSET(cal!$A$1,0,0,$R$1-1,1)),0),E$6)),\"\")","v":""}]
[null,30,{"$f":"DATE(cal!$B$2,cal!$C$2,B36)","v":30},{"$f":"IFERROR(INDEX(OFFSET(cal!$H$1,0,0,$R$1-1,1),1/LARGE(INDEX((OFFSET(cal!$A$1,0,0,$R$1-1,1)=$D$2)*(OFFSET(cal!$G$1,0,0,$R$1-1,1)=$B36)/ROW(OFFSET(cal!$A$1,0,0,$R$1-1,1)),0),D$6)),\"\")","v":""},{"$f":"IFERROR(INDEX(OFFSET(cal!$H$1,0,0,$R$1-1,1),1/LARGE(INDEX((OFFSET(cal!$A$1,0,0,$R$1-1,1)=$D$2)*(OFFSET(cal!$G$1,0,0,$R$1-1,1)=$B36)/ROW(OFFSET(cal!$A$1,0,0,$R$1-1,1)),0),E$6)),\"\")","v":""},"","","","","",{"$f":"IFERROR(INDEX(OFFSET(cal!$I$1,0,0,$R$1-1,1),1/LARGE(INDEX((OFFSET(cal!$A$1,0,0,$R$1-1,1)=$D$2)*(OFFSET(cal!$G$1,0,0,$R$1-1,1)=$B36)/ROW(OFFSET(cal!$A$1,0,0,$R$1-1,1)),0),D$6)),\"\")","v":""},{"$f":"IFERROR(INDEX(OFFSET(cal!$J$1,0,0,$R$1-1,1),1/LARGE(INDEX((OFFSET(cal!$A$1,0,0,$R$1-1,1)=$D$2)*(OFFSET(cal!$G$1,0,0,$R$1-1,1)=$B36)/ROW(OFFSET(cal!$A$1,0,0,$R$1-1,1)),0),D$6)),\"\")","v":""},{"$f":"IFERROR(INDEX(OFFSET(cal!$J$1,0,0,$R$1-1,1),1/LARGE(INDEX((OFFSET(cal!$A$1,0,0,$R$1-1,1)=$D$2)*(OFFSET(cal!$G$1,0,0,$R$1-1,1)=$B36)/ROW(OFFSET(cal!$A$1,0,0,$R$1-1,1)),0),E$6)),\"\")","v":""}]
[null,31,{"$f":"DATE(cal!$B$2,cal!$C$2,B37)","v":31},{"$f":"IFERROR(INDEX(OFFSET(cal!$H$1,0,0,$R$1-1,1),1/LARGE(INDEX((OFFSET(cal!$A$1,0,0,$R$1-1,1)=$D$2)*(OFFSET(cal!$G$1,0,0,$R$1-1,1)=$B37)/ROW(OFFSET(cal!$A$1,0,0,$R$1-1,1)),0),D$6)),\"\")","v":""},{"$f":"IFERROR(INDEX(OFFSET(cal!$H$1,0,0,$R$1-1,1),1/LARGE(INDEX((OFFSET(cal!$A$1,0,0,$R$1-1,1)=$D$2)*(OFFSET(cal!$G$1,0,0,$R$1-1,1)=$B37)/ROW(OFFSET(cal!$A$1,0,0,$R$1-1,1)),0),E$6)),\"\")","v":""},"","","","","",{"$f":"IFERROR(INDEX(OFFSET(cal!$I$1,0,0,$R$1-1,1),1/LARGE(INDEX((OFFSET(cal!$A$1,0,0,$R$1-1,1)=$D$2)*(OFFSET(cal!$G$1,0,0,$R$1-1,1)=$B37)/ROW(OFFSET(cal!$A$1,0,0,$R$1-1,1)),0),D$6)),\"\")","v":""},{"$f":"IFERROR(INDEX(OFFSET(cal!$J$1,0,0,$R$1-1,1),1/LARGE(INDEX((OFFSET(cal!$A$1,0,0,$R$1-1,1)=$D$2)*(OFFSET(cal!$G$1,0,0,$R$1-1,1)=$B37)/ROW(OFFSET(cal!$A$1,0,0,$R$1-1,1)),0),D$6)),\"\")","v":""},{"$f":"IFERROR(INDEX(OFFSET(cal!$J$1,0,0,$R$1-1,1),1/LARGE(INDEX((OFFSET(cal!$A$1,0,0,$R$1-1,1)=$D$2)*(OFFSET(cal!$G$1,0,0,$R$1-1,1)=$B37)/ROW(OFFSET(cal!$A$1,0,0,$R$1-1,1)),0),E$6)),\"\")","v":""}]
[null,"合計",null,null,null,{"$f":"SUM(F7:F37)","v":0},{"$f":"SUM(G7:G37)","v":0},0,0,0]
[]
[null,null,null,"所定休日"]